BEGIN:VCALENDAR
VERSION:2.0
PRODID:-//Date iCal//NONSGML kigkonsult.se iCalcreator 2.20.2//
METHOD:PUBLISH
X-WR-CALNAME;VALUE=TEXT:UMCES Events
BEGIN:VTIMEZONE
TZID:America/New_York
BEGIN:STANDARD
DTSTART:20161106T020000
TZOFFSETFROM:-0400
TZOFFSETTO:-0500
RDATE:20171105T020000
TZNAME:EST
END:STANDARD
BEGIN:DAYLIGHT
DTSTART:20170312T020000
TZOFFSETFROM:-0500
TZOFFSETTO:-0400
TZNAME:EDT
END:DAYLIGHT
END:VTIMEZONE
BEGIN:VEVENT
UID:calendar.1631.field_date_time.0@www.umces.edu
DTSTAMP:20260421T101209Z
CREATED:20170301T151635Z
DESCRIPTION:April 19\, 2017 10:00am to 11:00am    \n    \n      \n\n\n    
 \n\n              \nHorn Point Laboratory\n      \n\n\n\n\n  \n\n    \n\n 
              \n\n\n          \n\n              \n\n    \n\n              
 \n  \n  \n      \n\n          \n  \n  \n\n    \n\n              \n\n\nDr. 
 Rogers' current work focuses on on modeling scaling effects in high roughn
 ess environments\, and the thermodynamics and hydrodynamics of shallow fri
 nging reefs.  His talk is titled 'Coastal physical oceanography in high ro
 ughness environments: mechanisms for flow\, ecological implications and co
 nnectivity'\n\n\n\n 
DTSTART;TZID=America/New_York:20170419T100000
DTEND;TZID=America/New_York:20170419T110000
LAST-MODIFIED:20170301T221117Z
SUMMARY:Candidate Seminar: Justin Rogers
URL;TYPE=URI:https://www.umces.edu/events/candidate-seminar-justin-rogers
END:VEVENT
END:VCALENDAR
