BEGIN:VCALENDAR
VERSION:2.0
PRODID:-//Date iCal//NONSGML kigkonsult.se iCalcreator 2.20.2//
METHOD:PUBLISH
X-WR-CALNAME;VALUE=TEXT:UMCES Events
BEGIN:VTIMEZONE
TZID:America/New_York
BEGIN:STANDARD
DTSTART:20161106T020000
TZOFFSETFROM:-0400
TZOFFSETTO:-0500
RDATE:20171105T020000
TZNAME:EST
END:STANDARD
BEGIN:DAYLIGHT
DTSTART:20170312T020000
TZOFFSETFROM:-0500
TZOFFSETTO:-0400
TZNAME:EDT
END:DAYLIGHT
END:VTIMEZONE
BEGIN:VEVENT
UID:calendar.1684.field_date_time.0@www.umces.edu
DTSTAMP:20260421T090900Z
CREATED:20170307T184923Z
DESCRIPTION:April 4\, 2017 7:00pm to 8:00pm    \n    \n      \n\n\n    \n\n
               \nChesapeake Biological Laboratory\n      \n\n\n\n\n  \n\n  
   \n\n              \n\n\n      \n  \n\n    \n\n              \nCBL's Bern
 ie Fowler Laboratory\n\n142 Williams Street\,\n\nSolomons\, MD\, 20688\n\n
 View Campus Map\n\n \n\n      \n\n\n\n    \n\n              \n\n      \n\n
 \n\n    \n\n              \n\n      \n\n\n\n\n\n              \n\n\n      
     \n\n              \n\n    \n\n              \n  \n  \n      \n\n      
     \n  \n  \n\n    \n\n              \n\n\nAs gravity-bound\, flat-land p
 rimates\, we struggle to fully imagine the fluid lives of fish\, marine ma
 mmals\, and birds as they push and pull their way through a three-dimensio
 nal aqueous realm.  Through observing systems and telemetry\, scientists a
 re discovering marvelous adaptations in how marine animals contend with se
 awater\, which both opposes and leverages locomotion as animals swim\, div
 e\, lunge\, or simply stay put. In this talk Dr. David Secor will review t
 he mechanics and behaviors of marine animals as they school\, feed\, migra
 te\, and persevere.\n\n\n\nJoin us at Chesapeake Biological Laboratory for
  this free public event\, which is part of the Science for Citizens series
  to showcase innovative research being pioneered by CBL scientists. Seatin
 g is available on a first-come\, first-served basis for this free public s
 eminar.\n\n\n\nSee the full schedule for future Science for Citizens semin
 ars.
DTSTART;TZID=America/New_York:20170404T190000
DTEND;TZID=America/New_York:20170404T200000
LAST-MODIFIED:20170330T160353Z
SUMMARY:A View into the Secret Lives of Animals on the Swim
URL;TYPE=URI:https://www.umces.edu/events/view-secret-lives-animals-swim
END:VEVENT
END:VCALENDAR
