BEGIN:VCALENDAR
VERSION:2.0
PRODID:-//Date iCal//NONSGML kigkonsult.se iCalcreator 2.20.2//
METHOD:PUBLISH
X-WR-CALNAME;VALUE=TEXT:UMCES Events
BEGIN:VTIMEZONE
TZID:America/New_York
BEGIN:STANDARD
DTSTART:20201101T020000
TZOFFSETFROM:-0400
TZOFFSETTO:-0500
RDATE:20211107T020000
TZNAME:EST
END:STANDARD
BEGIN:DAYLIGHT
DTSTART:20210314T020000
TZOFFSETFROM:-0500
TZOFFSETTO:-0400
TZNAME:EDT
END:DAYLIGHT
END:VTIMEZONE
BEGIN:VEVENT
UID:calendar.18573.field_date_time.0@www.umces.edu
DTSTAMP:20260422T005754Z
CREATED:20200108T195842Z
DESCRIPTION:May 20\, 2021 6:30pm to 8:00pm    \n    \n      \n\n\n    \n\n 
              \nAppalachian Laboratory\n      \n\n\n\n\n  \n\n    \n\n     
          \n\n\n              WHERE THE TICKS ARE: MAPPING THE LOCATION OF 
 PATHOGEN-CARRYING TICKS IN WESTERN MARYLAND\n              \n\n           
    \n\n    \n\n              \n  \n    \n\n    Photo by Pixabay from Pexel
 s  \n\n      \n\n          \n  \n  \n\n    \n\n              \n\n\nAs the 
 days get warmer\, are you planning to spend more time enjoying the great o
 utdoors in western Maryland? If so\, you may be concerned about encounteri
 ng ticks and tick-born diseases.  Join us for Where the Ticks Are: Mapping
  the Location of Pathogen Carrying Ticks on Western Maryland to learn more
  about ticks in our region. Dr. Rebekah Taylor\, Associate Professor of Bi
 ology at Frostburg State University\, will discuss the ongoing research sh
 e and her students have been conducting on ticks and Lyme disease in weste
 rn Maryland. \n\n\n\nThis event will held on Zoom. Registration is require
 d.  Once registered\, attendees will receive the Zoom information via emai
 l.  \n\n\n\nDr. Taylor and several undergraduate and graduate students at 
 Frostburg State University are currently investigating the prevalence of B
 orrelia burgdorferi\, the causative agent of Lyme disease\, in Western Mar
 yland.  Ticks are collected and tested for the presence of Borrelia by PCR
  analysis\, and blood and tissue samples from wild mice are also tested by
  ELISA and PCR.  These data along with environmental information will allo
 w a broad picture of the emergence of Lyme in the regional area. Dr. Taylo
 r's ultimate goal for this data is an interactive web application that wou
 ld allow hikers\, bikers\, and others planning to spend time outdoors loca
 lly to check the prevalence of ticks carrying Borrelia burgdorferi. \n\n\n
 \nREGISTER NOW
DTSTART;TZID=America/New_York:20210520T183000
DTEND;TZID=America/New_York:20210520T200000
LAST-MODIFIED:20210506T231659Z
SUMMARY:Watershed Moments: Rebekah Taylor\, Frostburg State University
URL;TYPE=URI:https://www.umces.edu/events/watershed-moments-rebekah-taylor-
 frostburg-state-university
END:VEVENT
END:VCALENDAR
