BEGIN:VCALENDAR
VERSION:2.0
PRODID:-//Date iCal//NONSGML kigkonsult.se iCalcreator 2.20.2//
METHOD:PUBLISH
X-WR-CALNAME;VALUE=TEXT:UMCES Events
BEGIN:VTIMEZONE
TZID:America/New_York
BEGIN:STANDARD
DTSTART:20191103T020000
TZOFFSETFROM:-0400
TZOFFSETTO:-0500
TZNAME:EST
END:STANDARD
BEGIN:DAYLIGHT
DTSTART:20200308T020000
TZOFFSETFROM:-0500
TZOFFSETTO:-0400
TZNAME:EDT
END:DAYLIGHT
END:VTIMEZONE
BEGIN:VEVENT
UID:calendar.18948.field_date_time.0@www.umces.edu
DTSTAMP:20260422T104950Z
CREATED:20200207T203016Z
DESCRIPTION:February 20\, 2020 3:30pm to 4:30pm    \n    \n      \n\n\n    
 \n\n              \nAppalachian Laboratory\n      \n\n\n\n\n  \n\n    \n\n
               \n\n\n          \n\n              \n\n    \n\n              
 \n  \n  \n      \n\n          \n  \n  \n\n    \n\n              \n\n\nDr. 
 Heath Kelsey\, Integration and Application Network\, will present 'Trainin
 g Trainers in Ecosystem Health Report Cards: Stakeholder engagement in env
 ironmental decision making\,' as part of the Appalachian Laboratory's Visi
 ting Scholar Seminar Series. To learn more about Dr. Kelsey's work\,  view
  his CV here.  
DTSTART;TZID=America/New_York:20200220T153000
DTEND;TZID=America/New_York:20200220T163000
LAST-MODIFIED:20200214T174947Z
SUMMARY:Visiting Scholar Seminar Series: Heath Kelsey\, IAN
URL;TYPE=URI:https://www.umces.edu/events/visiting-scholar-seminar-series-h
 eath-kelsey-ian
END:VEVENT
END:VCALENDAR
