BEGIN:VCALENDAR
VERSION:2.0
PRODID:-//Date iCal//NONSGML kigkonsult.se iCalcreator 2.20.2//
METHOD:PUBLISH
X-WR-CALNAME;VALUE=TEXT:UMCES Events
BEGIN:VTIMEZONE
TZID:America/New_York
BEGIN:STANDARD
DTSTART:20161106T020000
TZOFFSETFROM:-0400
TZOFFSETTO:-0500
RDATE:20171105T020000
TZNAME:EST
END:STANDARD
BEGIN:DAYLIGHT
DTSTART:20170312T020000
TZOFFSETFROM:-0500
TZOFFSETTO:-0400
TZNAME:EDT
END:DAYLIGHT
END:VTIMEZONE
BEGIN:VEVENT
UID:calendar.1911.field_date_time.0@www.umces.edu
DTSTAMP:20260423T175856Z
CREATED:20170516T153716Z
DESCRIPTION:May 16\, 2017 1:00pm to 2:00pm    \n    \n      \n\n\n    \n\n 
              \nAppalachian Laboratory\n      \n\n\n\n\n  \n\n    \n\n     
          \n\n\n      \n  \n\n    \n\n              \n\n\nUMCES will honor 
 18 graduate students at its annual commencement ceremony. See the schedule
  of events and a list of graduates now.
DTSTART;TZID=America/New_York:20170516T130000
DTEND;TZID=America/New_York:20170516T140000
LAST-MODIFIED:20170517T011244Z
SUMMARY:2017 Commencement
URL;TYPE=URI:https://www.umces.edu/events/2017-commencement
END:VEVENT
END:VCALENDAR
