BEGIN:VCALENDAR
VERSION:2.0
PRODID:-//Date iCal//NONSGML kigkonsult.se iCalcreator 2.20.2//
METHOD:PUBLISH
X-WR-CALNAME;VALUE=TEXT:UMCES Events
BEGIN:VTIMEZONE
TZID:America/New_York
BEGIN:STANDARD
DTSTART:20171105T020000
TZOFFSETFROM:-0400
TZOFFSETTO:-0500
TZNAME:EST
END:STANDARD
BEGIN:DAYLIGHT
DTSTART:20170312T020000
TZOFFSETFROM:-0500
TZOFFSETTO:-0400
TZNAME:EDT
END:DAYLIGHT
END:VTIMEZONE
BEGIN:VEVENT
UID:calendar.2006.field_date_time.0@www.umces.edu
DTSTAMP:20260420T200509Z
CREATED:20170628T151546Z
DESCRIPTION:July 3\, 2017 12:00pm to 1:00pm    \n    \n      \n\n\n\n  \n\n
     \n\n              \n\n\n      \n  \n\n    \n\n              \n\n\nThis
  summer\, we’re deepening our understanding of Chesapeake Bay through the 
 eyes and stories of o\n    ur faculty and students at the University of Ma
 ryland Center for Environmental Science. Our weekly YouTube video series c
 alled “Discovering the Chesapeake” features our scientists and the researc
 h that sets them apart. We post a new video every Monday at noon.\n\n\n\nO
 n Monday\, July 3\, Raleigh Hood\, a research professor at Horn Point Labo
 ratory\, and graduate student Jacqueline Tay take you into the world of je
 llyfish to explain how their research helps them forecast when jellies wil
 l be in the water and discuss the value of jellyfish in the Bay’s ecosyste
 m.\n\n\n\nVisit our Discovering the Chesapeake YouTube page to see this an
 d past videos in the series. And don't forget to subscribe to our YouTube 
 page to receive notifications about new videos.
DTSTART;TZID=America/New_York:20170703T120000
DTEND;TZID=America/New_York:20170703T130000
LAST-MODIFIED:20170628T160503Z
SUMMARY:Discovering the Chesapeake with Raleigh Hood & Jacqueline Tay
URL;TYPE=URI:https://www.umces.edu/events/discovering-chesapeake-raleigh-ho
 od-jacqueline-tay
END:VEVENT
END:VCALENDAR
