BEGIN:VCALENDAR
VERSION:2.0
PRODID:-//Date iCal//NONSGML kigkonsult.se iCalcreator 2.20.2//
METHOD:PUBLISH
X-WR-CALNAME;VALUE=TEXT:UMCES Events
BEGIN:VTIMEZONE
TZID:America/New_York
BEGIN:STANDARD
DTSTART:20171105T020000
TZOFFSETFROM:-0400
TZOFFSETTO:-0500
TZNAME:EST
END:STANDARD
BEGIN:DAYLIGHT
DTSTART:20180311T020000
TZOFFSETFROM:-0500
TZOFFSETTO:-0400
TZNAME:EDT
END:DAYLIGHT
END:VTIMEZONE
BEGIN:VEVENT
UID:calendar.2044.field_date_time.0@www.umces.edu
DTSTAMP:20260423T192916Z
CREATED:20170711T191633Z
DESCRIPTION:October 18\, 2017 11:00am to 12:00pm    \n    \n      \n\n\n   
  \n\n              \nHorn Point Laboratory\n      \n\n\n\n\n  \n\n    \n\n
               \n\n\n      \n  \n\n    \n\n              \n\n\nDr. Nesslage
  is an Assistant Research Professor at the University of Maryland Center f
 or Environmental Science Chesapeake Biological Laboratory. Her research fo
 cuses on assessing fish and wildlife populations\, modeling invasive speci
 es dynamics\, and addressing resource management issues through the use of
  statistical modeling and estimation techniques.  Her talk is titled 'Quan
 tifying population dynamics in light of ecosystem change: case studies of 
 Atlantic menhaden and water hyacinth'.
DTSTART;TZID=America/New_York:20171018T110000
DTEND;TZID=America/New_York:20171018T120000
LAST-MODIFIED:20170711T191641Z
SUMMARY:Horn Point Seminars
URL;TYPE=URI:https://www.umces.edu/events/horn-point-seminars-0
END:VEVENT
END:VCALENDAR
