BEGIN:VCALENDAR
VERSION:2.0
PRODID:-//Date iCal//NONSGML kigkonsult.se iCalcreator 2.20.2//
METHOD:PUBLISH
X-WR-CALNAME;VALUE=TEXT:UMCES Events
BEGIN:VTIMEZONE
TZID:America/New_York
BEGIN:STANDARD
DTSTART:20171105T020000
TZOFFSETFROM:-0400
TZOFFSETTO:-0500
TZNAME:EST
END:STANDARD
BEGIN:DAYLIGHT
DTSTART:20180311T020000
TZOFFSETFROM:-0500
TZOFFSETTO:-0400
TZNAME:EDT
END:DAYLIGHT
END:VTIMEZONE
BEGIN:VEVENT
UID:calendar.2067.field_date_time.0@www.umces.edu
DTSTAMP:20260421T090850Z
CREATED:20170721T185818Z
DESCRIPTION:November 11\, 2017 9:30am to November 17\, 2017 1:00pm    \n   
  \n      \n\n\n    \n\n              \nInstitute of Marine & Environmental
  Technology\n      \n\n\n\n\n  \n\n    \n\n              \n\n\n           
    Training the next generation.\n              \n\n              \n\n    
 \n\n              \n  \n  \n      \n\n          \n  \n  \n\n    \n\n      
         \n\n\nThe theme of this year's 9th US Symposium on Harmful Algae w
 ill reflect the shift in the current climate in the field. Harmful algae a
 nd its environmental effects are becoming better understood by scientists\
 , and this meeting will hopefully serve as a means to usher in new ideas a
 nd ways of researching and treating harmful algae that will be embraced by
  the next generation of researchers in the field.\n\n\n\nWorkshops will be
  held at the Institute of Marine & Environmental Technology\, located at 7
 01 E. Pratt St.\, in Baltimore's Inner Harbor.\n\n\n\nSee a full schedule 
 of events and visit the symposium home page to learn more about the week-l
 ong event\, including how to register.\n\n\n\nRead the story about the eve
 nt.
DTSTART;TZID=America/New_York:20171111T093000
DTEND;TZID=America/New_York:20171117T130000
LAST-MODIFIED:20171106T124733Z
SUMMARY:9th US Symposium on Harmful Algae at IMET
URL;TYPE=URI:https://www.umces.edu/events/9th-us-symposium-harmful-algae-im
 et
END:VEVENT
END:VCALENDAR
