BEGIN:VCALENDAR
VERSION:2.0
PRODID:-//Date iCal//NONSGML kigkonsult.se iCalcreator 2.20.2//
METHOD:PUBLISH
X-WR-CALNAME;VALUE=TEXT:UMCES Events
BEGIN:VTIMEZONE
TZID:America/New_York
BEGIN:STANDARD
DTSTART:20201101T020000
TZOFFSETFROM:-0400
TZOFFSETTO:-0500
TZNAME:EST
END:STANDARD
BEGIN:DAYLIGHT
DTSTART:20200308T020000
TZOFFSETFROM:-0500
TZOFFSETTO:-0400
TZNAME:EDT
END:DAYLIGHT
END:VTIMEZONE
BEGIN:VEVENT
UID:calendar.21599.field_date_time.0@www.umces.edu
DTSTAMP:20260421T215546Z
CREATED:20200616T212018Z
DESCRIPTION:July 15\, 2020 3:00pm to 4:00pm    \n    \n      \n\n\n    \n\n
               \nInstitute of Marine & Environmental Technology\n      \n\n
 \n\n\n  \n\n    \n\n              \n\n\n          \n\n              \n\n  
   \n\n              \n  \n  \n      \n\n          \n  \n  \n\n    \n\n    
           \n\n\nWomen In Science Seminar featuring our own Dr. Colleen Bur
 ge (Assistant Professor\, UMBC-IMET) and Dr. Carolyn Friedman (Professor\,
  University of Washington)\n\n\n\n'Untangling host pathogen relationships 
 in California abalones' - Dr. Carolyn Friedman (Professor\, University of 
 Washington) \n\n\n\n'Gone viral\, the global emergence of an oyster-killin
 g virus and its potential impacts on the shellfish industry' - Dr. Colleen
  Burge (Assistant Professor\, UMBC-IMET)
DTSTART;TZID=America/New_York:20200715T150000
DTEND;TZID=America/New_York:20200715T160000
LAST-MODIFIED:20200710T203024Z
SUMMARY:Virtual IMET Seminar: Dr. Carolyn Friedman (UW) and Dr. Colleen Bur
 ge (UMBC-IMET)
URL;TYPE=URI:https://www.umces.edu/events/virtual-imet-seminar-dr-carolyn-f
 riedman-uw-and-dr-colleen-burge-umbc-imet
END:VEVENT
END:VCALENDAR
