BEGIN:VCALENDAR
VERSION:2.0
PRODID:-//Date iCal//NONSGML kigkonsult.se iCalcreator 2.20.2//
METHOD:PUBLISH
X-WR-CALNAME;VALUE=TEXT:UMCES Events
BEGIN:VTIMEZONE
TZID:America/New_York
BEGIN:STANDARD
DTSTART:20171105T020000
TZOFFSETFROM:-0400
TZOFFSETTO:-0500
TZNAME:EST
END:STANDARD
BEGIN:DAYLIGHT
DTSTART:20170312T020000
TZOFFSETFROM:-0500
TZOFFSETTO:-0400
RDATE:20180311T020000
TZNAME:EDT
END:DAYLIGHT
END:VTIMEZONE
BEGIN:VEVENT
UID:calendar.2189.field_date_time.0@www.umces.edu
DTSTAMP:20260419T154429Z
CREATED:20170825T201450Z
DESCRIPTION:September 14\, 2017 3:30pm to 4:30pm    \n    \n      \n\n\n   
  \n\n              \nAppalachian Laboratory\n      \n\n\n\n\n  \n\n    \n
 \n              \n\n\n      \n  \n\n    \n\n              \n\n\nDr. Tanya 
 Renner\, the Pennsylvania State University\, will present  'Sticky situati
 ons and slippery slopes: examining carnivorous plant adaptations to captur
 e and digest prey\,' as part of the Appalachian Laboratory's Visiting Scho
 lars Seminar Series. \n\n\n\nThe full Visiting Scholars Seminars Series Fa
 ll 2017 schedule can be found here. 
DTSTART;TZID=America/New_York:20170914T153000
DTEND;TZID=America/New_York:20170914T163000
LAST-MODIFIED:20170830T204240Z
SUMMARY:Fall 2017 Visiting Scholars Seminar Series: Tanya Renner
URL;TYPE=URI:https://www.umces.edu/events/fall-2017-visiting-scholars-semin
 ar-series-tanya-renner
END:VEVENT
END:VCALENDAR
