BEGIN:VCALENDAR
VERSION:2.0
PRODID:-//Date iCal//NONSGML kigkonsult.se iCalcreator 2.20.2//
METHOD:PUBLISH
X-WR-CALNAME;VALUE=TEXT:UMCES Events
BEGIN:VTIMEZONE
TZID:America/New_York
BEGIN:STANDARD
DTSTART:20171105T020000
TZOFFSETFROM:-0400
TZOFFSETTO:-0500
TZNAME:EST
END:STANDARD
BEGIN:DAYLIGHT
DTSTART:20170312T020000
TZOFFSETFROM:-0500
TZOFFSETTO:-0400
RDATE:20180311T020000
TZNAME:EDT
END:DAYLIGHT
END:VTIMEZONE
BEGIN:VEVENT
UID:calendar.2191.field_date_time.0@www.umces.edu
DTSTAMP:20260422T195050Z
CREATED:20170825T203007Z
DESCRIPTION:September 28\, 2017 3:30pm to 4:30pm    \n    \n      \n\n\n   
  \n\n              \nAppalachian Laboratory\n      \n\n\n\n\n  \n\n    \n
 \n              \n\n\n      \n  \n\n    \n\n              \n\n\nJon Dollow
  (Supervisory Hydrologist) and Matt Baker (Hydrological Technician)\, US G
 eological Survey\, will present 'USGS Overview\,' as part of the Appalachi
 an Laboratory's Visiting Scholars Seminar. \n\n\n\nThe full Visiting Schol
 ars Seminars Series Fall 2017 schedule can be found here. 
DTSTART;TZID=America/New_York:20170928T153000
DTEND;TZID=America/New_York:20170928T163000
LAST-MODIFIED:20170926T191305Z
SUMMARY:Fall 2017 Visiting Scholars Seminar Series: Jon Dollow and Matt Bak
 er
URL;TYPE=URI:https://www.umces.edu/events/fall-2017-visiting-scholars-semin
 ar-series-jon-dollow-and-matt-baker
END:VEVENT
END:VCALENDAR
