BEGIN:VCALENDAR
VERSION:2.0
PRODID:-//Date iCal//NONSGML kigkonsult.se iCalcreator 2.20.2//
METHOD:PUBLISH
X-WR-CALNAME;VALUE=TEXT:UMCES Events
BEGIN:VTIMEZONE
TZID:America/New_York
BEGIN:STANDARD
DTSTART:20171105T020000
TZOFFSETFROM:-0400
TZOFFSETTO:-0500
TZNAME:EST
END:STANDARD
BEGIN:DAYLIGHT
DTSTART:20180311T020000
TZOFFSETFROM:-0500
TZOFFSETTO:-0400
TZNAME:EDT
END:DAYLIGHT
END:VTIMEZONE
BEGIN:VEVENT
UID:calendar.2196.field_date_time.0@www.umces.edu
DTSTAMP:20260423T153732Z
CREATED:20170828T153441Z
DESCRIPTION:October 19\, 2017 3:30pm to 4:30pm    \n    \n      \n\n\n    
 \n\n              \nAppalachian Laboratory\n      \n\n\n\n\n  \n\n    \n\n
               \n\n\n      \n  \n\n    \n\n              \n\n\nDr. Jennifer
  Murrow\, University of Maryland-College Park\, will present 'Balancing th
 e needs of bears and foresters: a methodology to identify specific forest 
 management goals that regionally benefit an umbrella species\,' as part of
  the Appalachian Laboratory's Visiting Scholars Seminar Series.\n\n\n\nThe
  full Visiting Scholars Seminars Series Fall 2017 schedule can be found he
 re.  
DTSTART;TZID=America/New_York:20171019T153000
DTEND;TZID=America/New_York:20171019T163000
LAST-MODIFIED:20171016T131000Z
SUMMARY:Fall 2017 Visiting Scholars Seminar Series: Jennifer Murrow
URL;TYPE=URI:https://www.umces.edu/events/fall-2017-visiting-scholars-semin
 ar-series-jennifer-murrow
END:VEVENT
END:VCALENDAR
