BEGIN:VCALENDAR
VERSION:2.0
PRODID:-//Date iCal//NONSGML kigkonsult.se iCalcreator 2.20.2//
METHOD:PUBLISH
X-WR-CALNAME;VALUE=TEXT:UMCES Events
BEGIN:VTIMEZONE
TZID:America/New_York
BEGIN:STANDARD
DTSTART:20171105T020000
TZOFFSETFROM:-0400
TZOFFSETTO:-0500
TZNAME:EST
END:STANDARD
BEGIN:DAYLIGHT
DTSTART:20180311T020000
TZOFFSETFROM:-0500
TZOFFSETTO:-0400
TZNAME:EDT
END:DAYLIGHT
END:VTIMEZONE
BEGIN:VEVENT
UID:calendar.2199.field_date_time.0@www.umces.edu
DTSTAMP:20260420T184346Z
CREATED:20170828T155806Z
DESCRIPTION:November 16\, 2017 3:30pm to 4:30pm    \n    \n      \n\n\n    
 \n\n              \nAppalachian Laboratory\n      \n\n\n\n\n  \n\n    \n\n
               \n\n\n      \n  \n\n    \n\n              \n\n\nDr. Michael 
 Gonsior\, University of Maryland Center for Environmental Science- Chesape
 ake Bay Laboratory\, will present 'Dissolved organics matter-DOM character
 ization in natural and engineered systems\,' as part of the Appalachian La
 boratory's Visiting Scholars Seminar Series. \n\n\n\nThe full Visiting Sch
 olars Seminars Series Fall 2017 schedule can be found here. \n\n\n\n 
DTSTART;TZID=America/New_York:20171116T153000
DTEND;TZID=America/New_York:20171116T163000
LAST-MODIFIED:20170830T203825Z
SUMMARY:Fall 2017 Visiting Scholars Seminar Series: Michael Gonsior
URL;TYPE=URI:https://www.umces.edu/events/fall-2017-visiting-scholars-semin
 ar-series-michael-gonsior
END:VEVENT
END:VCALENDAR
