BEGIN:VCALENDAR
VERSION:2.0
PRODID:-//Date iCal//NONSGML kigkonsult.se iCalcreator 2.20.2//
METHOD:PUBLISH
X-WR-CALNAME;VALUE=TEXT:UMCES Events
BEGIN:VTIMEZONE
TZID:America/New_York
BEGIN:STANDARD
DTSTART:20171105T020000
TZOFFSETFROM:-0400
TZOFFSETTO:-0500
TZNAME:EST
END:STANDARD
BEGIN:DAYLIGHT
DTSTART:20180311T020000
TZOFFSETFROM:-0500
TZOFFSETTO:-0400
TZNAME:EDT
END:DAYLIGHT
END:VTIMEZONE
BEGIN:VEVENT
UID:calendar.2201.field_date_time.0@www.umces.edu
DTSTAMP:20260423T162909Z
CREATED:20170828T172810Z
DESCRIPTION:November 30\, 2017 3:30pm to 4:30pm    \n    \n      \n\n\n    
 \n\n              \nAppalachian Laboratory\n      \n\n\n\n\n  \n\n    \n\n
               \n\n\n      \n  \n\n    \n\n              \n\n\nDr. Yantao L
 i\, Institute of Marine and Environmental Technology\, will present 'Algae
 \, biotechnology and the environment\,' as part of the Appalachian Laborat
 ory's Visiting Scholars Seminar Series. \n\n\n\nThe full Visiting Scholars
  Seminars Series Fall 2017 schedule can be found here. 
DTSTART;TZID=America/New_York:20171130T153000
DTEND;TZID=America/New_York:20171130T163000
LAST-MODIFIED:20170830T203746Z
SUMMARY:Fall 2017 Visiting Scholars Seminar System: Yantao Li
URL;TYPE=URI:https://www.umces.edu/events/fall-2017-visiting-scholars-semin
 ar-system-yantao-li
END:VEVENT
END:VCALENDAR
