BEGIN:VCALENDAR
VERSION:2.0
PRODID:-//Date iCal//NONSGML kigkonsult.se iCalcreator 2.20.2//
METHOD:PUBLISH
X-WR-CALNAME;VALUE=TEXT:UMCES Events
BEGIN:VTIMEZONE
TZID:America/New_York
BEGIN:STANDARD
DTSTART:20171105T020000
TZOFFSETFROM:-0400
TZOFFSETTO:-0500
TZNAME:EST
END:STANDARD
BEGIN:DAYLIGHT
DTSTART:20180311T020000
TZOFFSETFROM:-0500
TZOFFSETTO:-0400
TZNAME:EDT
END:DAYLIGHT
END:VTIMEZONE
BEGIN:VEVENT
UID:calendar.2202.field_date_time.0@www.umces.edu
DTSTAMP:20260422T181326Z
CREATED:20170828T173156Z
DESCRIPTION:December 7\, 2017 3:30pm to 4:30pm    \n    \n      \n\n\n    
 \n\n              \nAppalachian Laboratory\n      \n\n\n\n\n  \n\n    \n\n
               \n\n\n      \n  \n\n    \n\n              \n\n\nDr. Andrew E
 lmore\, University of Maryland Center for Environmental Science- Appalachi
 an Laboratory\, will present 'From the mountains to the sea: new insights 
 into mid-Atlantic forest and stream response to global change\,' as part o
 f the Appalachian Laboratory's Visiting Scholars Seminar Series.  \n\n\n\n
 The full Visiting Scholars Seminars Series Fall 2017 schedule can be found
  here. 
DTSTART;TZID=America/New_York:20171207T153000
DTEND;TZID=America/New_York:20171207T163000
LAST-MODIFIED:20170830T203959Z
SUMMARY:Fall 2017 Visiting Scholars Seminar Series: Andrew Elmore
URL;TYPE=URI:https://www.umces.edu/events/fall-2017-visiting-scholars-semin
 ar-series-andrew-elmore
END:VEVENT
END:VCALENDAR
