BEGIN:VCALENDAR
VERSION:2.0
PRODID:-//Date iCal//NONSGML kigkonsult.se iCalcreator 2.20.2//
METHOD:PUBLISH
X-WR-CALNAME;VALUE=TEXT:UMCES Events
BEGIN:VTIMEZONE
TZID:America/New_York
BEGIN:STANDARD
DTSTART:20201101T020000
TZOFFSETFROM:-0400
TZOFFSETTO:-0500
TZNAME:EST
END:STANDARD
BEGIN:DAYLIGHT
DTSTART:20210314T020000
TZOFFSETFROM:-0500
TZOFFSETTO:-0400
TZNAME:EDT
END:DAYLIGHT
END:VTIMEZONE
BEGIN:VEVENT
UID:calendar.22034.field_date_time.0@www.umces.edu
DTSTAMP:20260422T211115Z
CREATED:20200726T162849Z
DESCRIPTION:October 14\, 2020 11:00am to 12:00pm    \n    \n      \n\n\n   
  \n\n              \nInstitute of Marine & Environmental Technology\n     
  \n\n\n\n\n  \n\n    \n\n              \n\n\n      \n  \n\n    \n\n       
        \n\n\nTitle: Microbial Carbon Pump and Climate Change\n\n\n\nSpeake
 r: Dr. Nianzhi Jiao (Professor\, Xiamen University)\n\n\n\nHost: Dr. Feng 
 Chen\n\n\n\nIf you would like to attend virtually\, please email imetdirec
 torsoffice@umces.edu
DTSTART;TZID=America/New_York:20201014T110000
DTEND;TZID=America/New_York:20201014T120000
LAST-MODIFIED:20200918T134645Z
SUMMARY:Virtual Seminar: Dr. Nianzhi Jiao (Professor\, Xiamen University)
URL;TYPE=URI:https://www.umces.edu/events/virtual-seminar-dr-nianzhi-jiao-p
 rofessor-xiamen-university
END:VEVENT
END:VCALENDAR
