BEGIN:VCALENDAR
VERSION:2.0
PRODID:-//Date iCal//NONSGML kigkonsult.se iCalcreator 2.20.2//
METHOD:PUBLISH
X-WR-CALNAME;VALUE=TEXT:UMCES Events
BEGIN:VTIMEZONE
TZID:America/New_York
BEGIN:STANDARD
DTSTART:20201101T020000
TZOFFSETFROM:-0400
TZOFFSETTO:-0500
TZNAME:EST
END:STANDARD
BEGIN:DAYLIGHT
DTSTART:20210314T020000
TZOFFSETFROM:-0500
TZOFFSETTO:-0400
TZNAME:EDT
END:DAYLIGHT
END:VTIMEZONE
BEGIN:VEVENT
UID:calendar.22129.field_date_time.0@www.umces.edu
DTSTAMP:20260422T225557Z
CREATED:20200908T201500Z
DESCRIPTION:December 9\, 2020 3:00pm to 4:00pm    \n    \n      \n\n\n    
 \n\n              \nInstitute of Marine & Environmental Technology\n      
 \n\n\n\n\n  \n\n    \n\n              \n\n\n      \n  \n\n    \n\n        
       \n\n\nTitle: Evolutionary trade-offs between ecological adaptation a
 nd host specificity in a beneficial symbiosis\n\n\n\nSpeaker: Dr. Michele 
 Nishiguchi (Professor\, University of California\, Merced)\n\n\n\nIf you w
 ould like to attend virtually\, please email imetdirectorsoffice@umces.edu
DTSTART;TZID=America/New_York:20201209T150000
DTEND;TZID=America/New_York:20201209T160000
LAST-MODIFIED:20201202T211429Z
SUMMARY:Virtual Seminar: Dr. Michele Nishiguchi (Professor\, University of 
 California\, Merced)
URL;TYPE=URI:https://www.umces.edu/events/virtual-seminar-dr-michele-nishig
 uchi-professor-university-of-california-merced
END:VEVENT
END:VCALENDAR
