BEGIN:VCALENDAR
VERSION:2.0
PRODID:-//Date iCal//NONSGML kigkonsult.se iCalcreator 2.20.2//
METHOD:PUBLISH
X-WR-CALNAME;VALUE=TEXT:UMCES Events
BEGIN:VTIMEZONE
TZID:America/New_York
BEGIN:STANDARD
DTSTART:20171105T020000
TZOFFSETFROM:-0400
TZOFFSETTO:-0500
TZNAME:EST
END:STANDARD
BEGIN:DAYLIGHT
DTSTART:20170312T020000
TZOFFSETFROM:-0500
TZOFFSETTO:-0400
RDATE:20180311T020000
TZNAME:EDT
END:DAYLIGHT
END:VTIMEZONE
BEGIN:VEVENT
UID:calendar.2213.field_date_time.0@www.umces.edu
DTSTAMP:20260421T135609Z
CREATED:20170901T131356Z
DESCRIPTION:October 5\, 2017 6:30pm to 8:30pm    \n    \n      \n\n\n    \n
 \n              \nAppalachian Laboratory\n      \n\n\n\n\n  \n\n    \n\n  
             \n\n\n          \n\n              \n\n    \n\n              \n
   \n  \n      \n\n          \n  \n  \n\n    \n\n              \n\n\nAre yo
 u interested in learning more about deer and deer manage-ment strategies i
 n our region? If so\, this Watershed Moments presentation is for you!\n\n
 \nWho: Brian Eyler\, Deer Project Leader\, MD DNR \n\n\nWhere: Appalachian
  Laboratory\, 301 Braddock Road\, Frostburg \n\n\n \n\n\n\nBefore the pres
 entation\, talk with students from Allegany College of Maryland about thei
 r wildlife biology studies and activities.\n\n\n\nSeating is limited and a
 vailable on a first-come\, first-served basis.  Doors open at 6pm. \n\n\n
 \nThe full Watershed Moments Community Learning Series Fall 2017 schedule 
 can be found here.   
DTSTART;TZID=America/New_York:20171005T183000
DTEND;TZID=America/New_York:20171005T203000
LAST-MODIFIED:20170905T141910Z
SUMMARY:Fall 2017 Watershed Moments Community Learning Series- Eyler
URL;TYPE=URI:https://www.umces.edu/events/fall-2017-watershed-moments-commu
 nity-learning-series-eyler
END:VEVENT
END:VCALENDAR
