BEGIN:VCALENDAR
VERSION:2.0
PRODID:-//Date iCal//NONSGML kigkonsult.se iCalcreator 2.20.2//
METHOD:PUBLISH
X-WR-CALNAME;VALUE=TEXT:UMCES Events
BEGIN:VTIMEZONE
TZID:America/New_York
BEGIN:STANDARD
DTSTART:20201101T020000
TZOFFSETFROM:-0400
TZOFFSETTO:-0500
TZNAME:EST
END:STANDARD
BEGIN:DAYLIGHT
DTSTART:20210314T020000
TZOFFSETFROM:-0500
TZOFFSETTO:-0400
TZNAME:EDT
END:DAYLIGHT
END:VTIMEZONE
BEGIN:VEVENT
UID:calendar.22163.field_date_time.0@www.umces.edu
DTSTAMP:20260421T122512Z
CREATED:20200917T220209Z
DESCRIPTION:December 9\, 2020 11:00am to 12:00pm    \n    \n      \n\n\n   
  \n\n              \nHorn Point Laboratory\n      \n\n\n\n\n  \n\n    \n\n
               \n\n\n      \n  \n\n    \n\n              \n\n\nJoin us virt
 ually for Neil Ganju’s seminar\, “Developing standardized geospatial metri
 cs for salt marsh management and restoration.”\n\n\n\n\n\nThis seminar is 
 part of HPL's fall seminar series: Assessing Coastal Risks and Enhancing R
 esilience presented via Zoom\n\n\n\n\n\n\n\nRegister for the seminar serie
 s here
DTSTART;TZID=America/New_York:20201209T110000
DTEND;TZID=America/New_York:20201209T120000
LAST-MODIFIED:20200923T142757Z
SUMMARY:Coastal Resiliency Seminar: Neil Ganju on salt marsh management and
  restoration
URL;TYPE=URI:https://www.umces.edu/events/coastal-resiliency-seminar-neil-g
 anju-on-salt-marsh-management-and-restoration
END:VEVENT
END:VCALENDAR
