BEGIN:VCALENDAR
VERSION:2.0
PRODID:-//Date iCal//NONSGML kigkonsult.se iCalcreator 2.20.2//
METHOD:PUBLISH
X-WR-CALNAME;VALUE=TEXT:UMCES Events
BEGIN:VTIMEZONE
TZID:America/New_York
BEGIN:STANDARD
DTSTART:20201101T020000
TZOFFSETFROM:-0400
TZOFFSETTO:-0500
TZNAME:EST
END:STANDARD
BEGIN:DAYLIGHT
DTSTART:20210314T020000
TZOFFSETFROM:-0500
TZOFFSETTO:-0400
TZNAME:EDT
END:DAYLIGHT
END:VTIMEZONE
BEGIN:VEVENT
UID:calendar.22210.field_date_time.0@www.umces.edu
DTSTAMP:20260425T211005Z
CREATED:20201009T161618Z
DESCRIPTION:October 30\, 2020 12:00pm    \n    \n      \n\n\n    \n\n      
         \nChesapeake Biological Laboratory\n      \n\n\n\n\n  \n\n    \n\n
               \n\n\n              Topic: Floating Wetlands
DTSTART;TZID=America/New_York:20201030T120000
DTEND;TZID=America/New_York:20201030T120000
LAST-MODIFIED:20201009T162639Z
SUMMARY:Brown Bag Seminar: Isabel Sanchez
URL;TYPE=URI:https://www.umces.edu/events/brown-bag-seminar-isabel-sanchez-
 0
END:VEVENT
END:VCALENDAR
