BEGIN:VCALENDAR
VERSION:2.0
PRODID:-//Date iCal//NONSGML kigkonsult.se iCalcreator 2.20.2//
METHOD:PUBLISH
X-WR-CALNAME;VALUE=TEXT:UMCES Events
BEGIN:VTIMEZONE
TZID:America/New_York
BEGIN:STANDARD
DTSTART:20201101T020000
TZOFFSETFROM:-0400
TZOFFSETTO:-0500
TZNAME:EST
END:STANDARD
BEGIN:DAYLIGHT
DTSTART:20210314T020000
TZOFFSETFROM:-0500
TZOFFSETTO:-0400
TZNAME:EDT
END:DAYLIGHT
END:VTIMEZONE
BEGIN:VEVENT
UID:calendar.22385.field_date_time.0@www.umces.edu
DTSTAMP:20260421T091814Z
CREATED:20210128T154926Z
DESCRIPTION:March 3\, 2021 2:30pm to 3:30pm    \n    \n      \n\n\n    \n\n
               \nHorn Point Laboratory\n      \n\n\n\n\n  \n\n    \n\n     
          \n\n\n          \n\n              \n\n    \n\n              \n  
 \n  \n      \n\n          \n  \n  \n\n    \n\n              \n\n\nJoin us 
 for our virtual Spring Seminar Series\, 'The Universe to Unicellular Organ
 isms and Everything In-between' as Pat Keys\, Colorado State University\, 
 presents Understanding Anthropocene Risk.  \n\n\n\nExplore the science of 
 our environment through the lens of scientists leading their field of rese
 arch. These virtual seminars are free\, open to the public and held at 11 
 a.m. Wednesdays unless otherwise noted.  Registration is required to provi
 de you a link to the zoom webinars.\n\n\n\n\nRegister for this series
DTSTART;TZID=America/New_York:20210303T143000
DTEND;TZID=America/New_York:20210303T153000
LAST-MODIFIED:20210129T181920Z
SUMMARY:Horn Point Laboratory Virtual Seminar Series: Pat Keys (Colorado St
 ate University)
URL;TYPE=URI:https://www.umces.edu/events/horn-point-laboratory-virtual-sem
 inar-series-pat-keys-colorado-state-university
END:VEVENT
END:VCALENDAR
