BEGIN:VCALENDAR
VERSION:2.0
PRODID:-//Date iCal//NONSGML kigkonsult.se iCalcreator 2.20.2//
METHOD:PUBLISH
X-WR-CALNAME;VALUE=TEXT:UMCES Events
BEGIN:VTIMEZONE
TZID:America/New_York
BEGIN:STANDARD
DTSTART:20201101T020000
TZOFFSETFROM:-0400
TZOFFSETTO:-0500
TZNAME:EST
END:STANDARD
BEGIN:DAYLIGHT
DTSTART:20210314T020000
TZOFFSETFROM:-0500
TZOFFSETTO:-0400
TZNAME:EDT
END:DAYLIGHT
END:VTIMEZONE
BEGIN:VEVENT
UID:calendar.22388.field_date_time.0@www.umces.edu
DTSTAMP:20260423T124851Z
CREATED:20210128T165712Z
DESCRIPTION:March 31\, 2021 11:00am to 12:00pm    \n    \n      \n\n\n    
 \n\n              \nHorn Point Laboratory\n      \n\n\n\n\n  \n\n    \n\n 
              \n\n\n          \n\n              \n\n    \n\n              
 \n  \n  \n      \n\n          \n  \n  \n\n    \n\n              \n\n\nJoin
  us for our virtual Spring Seminar Series\, 'The Universe to Unicellular O
 rganisms and Everything In-between' as Matthew Cappucci\, Washington Post\
 , presents Chasing down the storm: understanding the atmosphere's science\
 , caprice and beauty.  \n\n\n\nExplore the science of our environment thro
 ugh the lens of scientists leading their field of research. These virtual 
 seminars are free\, open to the public and held at 11 a.m. Wednesdays unle
 ss otherwise noted.  Registration is required to provide you a link to the
  zoom webinars.\n\n\n\n\nRegister for this series
DTSTART;TZID=America/New_York:20210331T110000
DTEND;TZID=America/New_York:20210331T120000
LAST-MODIFIED:20210129T181637Z
SUMMARY:Horn Point Laboratory Virtual Seminar Series: Matthew Cappucci (Was
 hington Post)
URL;TYPE=URI:https://www.umces.edu/events/horn-point-laboratory-virtual-sem
 inar-series-matthew-cappucci-washington-post
END:VEVENT
END:VCALENDAR
