BEGIN:VCALENDAR
VERSION:2.0
PRODID:-//Date iCal//NONSGML kigkonsult.se iCalcreator 2.20.2//
METHOD:PUBLISH
X-WR-CALNAME;VALUE=TEXT:UMCES Events
BEGIN:VTIMEZONE
TZID:America/New_York
BEGIN:STANDARD
DTSTART:20201101T020000
TZOFFSETFROM:-0400
TZOFFSETTO:-0500
RDATE:20211107T020000
TZNAME:EST
END:STANDARD
BEGIN:DAYLIGHT
DTSTART:20210314T020000
TZOFFSETFROM:-0500
TZOFFSETTO:-0400
TZNAME:EDT
END:DAYLIGHT
END:VTIMEZONE
BEGIN:VEVENT
UID:calendar.22390.field_date_time.0@www.umces.edu
DTSTAMP:20260421T232301Z
CREATED:20210128T171424Z
DESCRIPTION:April 7\, 2021 11:00am to 12:00pm    \n    \n      \n\n\n    \n
 \n              \nHorn Point Laboratory\n      \n\n\n\n\n  \n\n    \n\n   
            \n\n\n          \n\n              \n\n    \n\n              \n 
  \n  \n      \n\n          \n  \n  \n\n    \n\n              \n\n\nJoin us
  for our virtual Spring Seminar Series\, 'The Universe to Unicellular Orga
 nisms and Everything In-between' as Alison Thieme\, University of Maryland
  College Park\, presents Using NASA Earth observations and Google Earth En
 gine to map winter cover crop conservation performance in the Chesapeake B
 ay Watershed.\n\n\n\nExplore the science of our environment through the le
 ns of scientists leading their field of research. These virtual seminars a
 re free\, open to the public and held at 11 a.m. Wednesdays unless otherwi
 se noted.  Registration is required to provide you a link to the zoom webi
 nars.\n\n\n\n\nRegister for this series
DTSTART;TZID=America/New_York:20210407T110000
DTEND;TZID=America/New_York:20210407T120000
LAST-MODIFIED:20210405T145423Z
SUMMARY:Horn Point Laboratory Virtual Seminar Series: Alison Thieme\, (Univ
 ersity of Maryland College Park)
URL;TYPE=URI:https://www.umces.edu/events/horn-point-laboratory-virtual-sem
 inar-series-alison-thieme-university-of-maryland-college
END:VEVENT
END:VCALENDAR
