BEGIN:VCALENDAR
VERSION:2.0
PRODID:-//Date iCal//NONSGML kigkonsult.se iCalcreator 2.20.2//
METHOD:PUBLISH
X-WR-CALNAME;VALUE=TEXT:UMCES Events
BEGIN:VTIMEZONE
TZID:America/New_York
BEGIN:STANDARD
DTSTART:20201101T020000
TZOFFSETFROM:-0400
TZOFFSETTO:-0500
RDATE:20211107T020000
TZNAME:EST
END:STANDARD
BEGIN:DAYLIGHT
DTSTART:20210314T020000
TZOFFSETFROM:-0500
TZOFFSETTO:-0400
TZNAME:EDT
END:DAYLIGHT
END:VTIMEZONE
BEGIN:VEVENT
UID:calendar.22452.field_date_time.0@www.umces.edu
DTSTAMP:20260423T192602Z
CREATED:20210223T221116Z
DESCRIPTION:April 8\, 2021 3:30pm to 4:30pm    \n    \n      \n\n\n    \n\n
               \nAppalachian Laboratory\n      \n\n\n\n\n  \n\n    \n\n    
           \n\n\n          \n\n              \n\n    \n\n              \n  
 \n  \n      \n\n          \n  \n  \n\n    \n\n              \n\n\nDr. Amy 
 Johnson\, Smithsonian Conservation Biology Institute\, will present 'Virgi
 nia Working Landscapes - Connecting Communities for Conservation\,' as par
 t of the Visiting Scholar Seminar Series.  To learn more about Dr. Johnson
 's research visit her research website.  \n\n\n\nThe full spring seminar s
 chedule can be found on the Visiting Scholar Seminar Series website. 
DTSTART;TZID=America/New_York:20210408T153000
DTEND;TZID=America/New_York:20210408T163000
LAST-MODIFIED:20210223T221129Z
SUMMARY:Visiting Scholar Seminar Series: Amy Johnson\, Smithsonian Conserva
 tion Biology Institute
URL;TYPE=URI:https://www.umces.edu/events/visiting-scholar-seminar-series-a
 my-johnson-smithsonian-conservation-biology-institute
END:VEVENT
END:VCALENDAR
