BEGIN:VCALENDAR
VERSION:2.0
PRODID:-//Date iCal//NONSGML kigkonsult.se iCalcreator 2.20.2//
METHOD:PUBLISH
X-WR-CALNAME;VALUE=TEXT:UMCES Events
BEGIN:VTIMEZONE
TZID:America/New_York
BEGIN:STANDARD
DTSTART:20211107T020000
TZOFFSETFROM:-0400
TZOFFSETTO:-0500
TZNAME:EST
END:STANDARD
BEGIN:DAYLIGHT
DTSTART:20210314T020000
TZOFFSETFROM:-0500
TZOFFSETTO:-0400
TZNAME:EDT
END:DAYLIGHT
END:VTIMEZONE
BEGIN:VEVENT
UID:calendar.22514.field_date_time.0@www.umces.edu
DTSTAMP:20260420T232953Z
CREATED:20210406T141048Z
DESCRIPTION:June 10\, 2021 3:30pm to 4:30pm    \n    \n      \n\n\n    \n\n
               \nAppalachian Laboratory\n      \n\n\n\n\n  \n\n    \n\n    
           \n\n\n          \n\n              \n\n    \n\n              \n  
 \n    \n\n    Photo L-R: Dr. Eric Davidson\, CHWA CESU Director\,  Dr. Dan
  Filer\, NPS CHWA CESU Research Coordinator  \n\n      \n\n          \n  
 \n  \n\n    \n\n              \n\n\nDr. Eric Davidson\, Director of the Ch
 esapeake Watershed Cooperative Ecosystem Studies Unit (CHWA CESU)\, and Dr
 . Dan Filer\, National Park Service (NPS) CHWA CESU Research Coordinator\,
  will present 'State of the Network: Reviewing and presenting the findings
  from the five-year assessment report of the Chesapeake Watershed CESU Res
 earch Network\,' as part of the Visiting Scholar Seminar Series. Zoom inst
 ructions will be emailed to the UMCES community closer to the date of the 
 seminar. Please contact Rhonda Schwinabart at rschwinabart@umces.edu with 
 any seminar-related questions. \n\n\n\nTo learn more about the CHWA CESU v
 isit https://chwacesu.org/. \n\n\n\n 
DTSTART;TZID=America/New_York:20210610T153000
DTEND;TZID=America/New_York:20210610T163000
LAST-MODIFIED:20210406T141137Z
SUMMARY:Visiting Scholar Seminar Series: Eric Davidson & Dan Filer\, CHWA C
 ESU
URL;TYPE=URI:https://www.umces.edu/events/visiting-scholar-seminar-series-e
 ric-davidson-dan-filer-chwa-cesu
END:VEVENT
END:VCALENDAR
