BEGIN:VCALENDAR
VERSION:2.0
PRODID:-//Date iCal//NONSGML kigkonsult.se iCalcreator 2.20.2//
METHOD:PUBLISH
X-WR-CALNAME;VALUE=TEXT:UMCES Events
BEGIN:VTIMEZONE
TZID:America/New_York
BEGIN:STANDARD
DTSTART:20201101T020000
TZOFFSETFROM:-0400
TZOFFSETTO:-0500
RDATE:20211107T020000
TZNAME:EST
END:STANDARD
BEGIN:DAYLIGHT
DTSTART:20210314T020000
TZOFFSETFROM:-0500
TZOFFSETTO:-0400
TZNAME:EDT
END:DAYLIGHT
END:VTIMEZONE
BEGIN:VEVENT
UID:calendar.22536.field_date_time.0@www.umces.edu
DTSTAMP:20260421T231722Z
CREATED:20210420T210441Z
DESCRIPTION:May 20\, 2021 3:30pm to 4:30pm    \n    \n      \n\n\n    \n\n 
              \nAppalachian Laboratory\n      \n\n\n\n\n  \n\n    \n\n     
          \n\n\n          \n\n              \n\n    \n\n              \n  
 \n  \n      \n\n          \n  \n  \n\n    \n\n              \n\n\nDr. Vero
 nica Del Bianco\, UMCES-Appalachian Laboratory\, will present\, 'How do we
  know if citizen science volunteers are collecting good observational data
 ?' as part of the virtual Visiting Scholar Seminar Series. Further details
  and Zoom instructions will be emailed to the UMCES community closer to th
 e date. 
DTSTART;TZID=America/New_York:20210520T153000
DTEND;TZID=America/New_York:20210520T163000
LAST-MODIFIED:20210514T192419Z
SUMMARY:Visiting Scholar Seminar Series: Veronica Del Bianco
URL;TYPE=URI:https://www.umces.edu/events/visiting-scholar-seminar-series-v
 eronica-del-bianco
END:VEVENT
END:VCALENDAR
