BEGIN:VCALENDAR
VERSION:2.0
PRODID:-//Date iCal//NONSGML kigkonsult.se iCalcreator 2.20.2//
METHOD:PUBLISH
X-WR-CALNAME;VALUE=TEXT:UMCES Events
BEGIN:VTIMEZONE
TZID:America/New_York
BEGIN:STANDARD
DTSTART:20201101T020000
TZOFFSETFROM:-0400
TZOFFSETTO:-0500
RDATE:20211107T020000
TZNAME:EST
END:STANDARD
BEGIN:DAYLIGHT
DTSTART:20210314T020000
TZOFFSETFROM:-0500
TZOFFSETTO:-0400
TZNAME:EDT
END:DAYLIGHT
END:VTIMEZONE
BEGIN:VEVENT
UID:calendar.22538.field_date_time.0@www.umces.edu
DTSTAMP:20260421T043134Z
CREATED:20210421T165649Z
DESCRIPTION:May 27\, 2021 1:00pm to 3:00pm    \n    \n      \n\n\n    \n\n 
              \nAppalachian Laboratory\n              \nChesapeake Biologic
 al Laboratory\n              \nHorn Point Laboratory\n              \nInst
 itute of Marine & Environmental Technology\n      \n\n\n\n\n  \n\n    \n\n
               \n\n\n          \n\n              \n\n    \n\n              
 \n  \n  \n      \n\n          \n  \n  \n\n    \n\n              \n\n\nJoin
  us for a virtual commencement ceremony on Thursday\, May 27\, 2021\, at 1
  p.m.\n\nFeaturing distinguished speakers and university awards\, the conf
 erral of master's and doctorate degrees\, and keynote speaker The Honorabl
 e Benjamin L. Cardin\, U.S. Senator from Maryland.\n\n\n\nThe ceremony inc
 ludes recognition for:\nPresident's Award for Excellence in Application of
  Science\nPresident’s Award for Outstanding Research Support\nUMCES Studen
 t Service Award\nOutstanding Faculty Mentor Award\nUMCES Staff Award\n\nTo
  view the program and list of graduates\, visit HERE.\n\nThis event will b
 e recorded and attendees will receive a link to the recording after the ev
 ent.\n\n\n\nRegister for Commencement\n\n\n\nWith this link\, you will be 
 able to support the graduates in real-time via the Chat feature.\n 
DTSTART;TZID=America/New_York:20210527T130000
DTEND;TZID=America/New_York:20210527T150000
LAST-MODIFIED:20210527T143408Z
SUMMARY:UMCES Commencement 2021
URL;TYPE=URI:https://www.umces.edu/events/umces-commencement-2021
END:VEVENT
END:VCALENDAR
