BEGIN:VCALENDAR
VERSION:2.0
PRODID:-//Date iCal//NONSGML kigkonsult.se iCalcreator 2.20.2//
METHOD:PUBLISH
X-WR-CALNAME;VALUE=TEXT:UMCES Events
BEGIN:VTIMEZONE
TZID:America/New_York
BEGIN:STANDARD
DTSTART:20211107T020000
TZOFFSETFROM:-0400
TZOFFSETTO:-0500
TZNAME:EST
END:STANDARD
BEGIN:DAYLIGHT
DTSTART:20210314T020000
TZOFFSETFROM:-0500
TZOFFSETTO:-0400
RDATE:20220313T020000
TZNAME:EDT
END:DAYLIGHT
END:VTIMEZONE
BEGIN:VEVENT
UID:calendar.22672.field_date_time.0@www.umces.edu
DTSTAMP:20260422T223847Z
CREATED:20210802T162049Z
DESCRIPTION:September 22\, 2021 3:30pm    \n    \n      \n\n\n    \n\n     
          \nChesapeake Biological Laboratory\n      \n\n\n\n\n  \n\n    \n
 \n              \n\n\n              Topic: A coral ensemble approach to re
 constructing pre-industrial central tropical Pacific climate variability\n
           \n  \n\n    \n\n              \n\n\nCBL's Distinguished Scholars
  Seminar is open to the public. However\, interested participants should b
 e aware that these highly technical seminars are intended for an academic 
 audience. Members of the public who would like to learn about featured res
 earch efforts are encouraged to participate in CBL's public Science for Ci
 tizens Seminar Series.
DTSTART;TZID=America/New_York:20210922T153000
DTEND;TZID=America/New_York:20210922T153000
LAST-MODIFIED:20210802T162100Z
SUMMARY:Distinguished Scholar Seminar: Dr. Hussein R. Sayani (Georgia Tech)
URL;TYPE=URI:https://www.umces.edu/events/distinguished-scholar-seminar-dr-
 hussein-r-sayani-georgia-tech
END:VEVENT
END:VCALENDAR
