BEGIN:VCALENDAR
VERSION:2.0
PRODID:-//Date iCal//NONSGML kigkonsult.se iCalcreator 2.20.2//
METHOD:PUBLISH
X-WR-CALNAME;VALUE=TEXT:UMCES Events
BEGIN:VTIMEZONE
TZID:America/New_York
BEGIN:STANDARD
DTSTART:20211107T020000
TZOFFSETFROM:-0400
TZOFFSETTO:-0500
TZNAME:EST
END:STANDARD
BEGIN:DAYLIGHT
DTSTART:20210314T020000
TZOFFSETFROM:-0500
TZOFFSETTO:-0400
RDATE:20220313T020000
TZNAME:EDT
END:DAYLIGHT
END:VTIMEZONE
BEGIN:VEVENT
UID:calendar.22734.field_date_time.0@www.umces.edu
DTSTAMP:20260423T153652Z
CREATED:20210902T131838Z
DESCRIPTION:October 5\, 2021 7:00pm to 8:00pm    \n    \n      \n\n\n    \n
 \n              \nChesapeake Biological Laboratory\n      \n\n\n\n\n  \n\n
     \n\n              \n\n\n          \n\n              \n\n    \n\n      
         \n  \n  \n      \n\n          \n  \n  \n\n    \n\n              \n
 Future Wildland Fire: Land Management and Climate Change\n\nPRESENTED BY D
 R. MARK COCHRANE\, UMCES appalachian laboratory\n\n\n\nEvery year we seem 
 to hear of more and more catastrophic wildfires burning here and abroad. T
 he trend is real but the predicament that we face with future wildland fir
 es is the result of both earlier land management actions and the growing i
 nfluence of climate change. To adapt to changing conditions and mitigate t
 he threats posed by future wildfires\, a paradigm shift is needed in how s
 ocieties view and manage wildfire.\n\n\n\nCost: Free\nWhere: ZOOM Webinar 
 - you will receive a participant link after registering\nPre-Registration 
 Required: https://www.usmf.org/s4c/\nWho: Members of the general public. N
 o scientific background needed\; everyone is welcome!\n\n\n\nPlease note t
 hat this seminar will be hosted as Zoom Webinars only. Out of an abundance
  of caution related to the COVID-19 coronavirus\, there will be no in-pers
 on attendance opportunity.\n\n\n\nThis seminar is presented as a part of t
 he Chesapeake Biological Laboratory’s Science for Communities Seminar Seri
 es.  These public programs invite the community to discover how our scient
 ists are developing new approaches to solving the environmental challenges
  facing Southern Maryland\, our nation\, and the world.\n\n\n	View the comp
 lete Science for Communities Seminar schedule.\n	Learn more about the Virtu
 al Science Semester public programming.
DTSTART;TZID=America/New_York:20211005T190000
DTEND;TZID=America/New_York:20211005T200000
LAST-MODIFIED:20210909T153126Z
SUMMARY:S4C Webinar - Future Wildland Fire
URL;TYPE=URI:https://www.umces.edu/events/s4c-webinar-future-wildland-fire
END:VEVENT
END:VCALENDAR
