BEGIN:VCALENDAR
VERSION:2.0
PRODID:-//Date iCal//NONSGML kigkonsult.se iCalcreator 2.20.2//
METHOD:PUBLISH
X-WR-CALNAME;VALUE=TEXT:UMCES Events
BEGIN:VTIMEZONE
TZID:America/New_York
BEGIN:STANDARD
DTSTART:20221106T020000
TZOFFSETFROM:-0400
TZOFFSETTO:-0500
TZNAME:EST
END:STANDARD
BEGIN:DAYLIGHT
DTSTART:20220313T020000
TZOFFSETFROM:-0500
TZOFFSETTO:-0400
RDATE:20230312T020000
TZNAME:EDT
END:DAYLIGHT
END:VTIMEZONE
BEGIN:VEVENT
UID:calendar.23201.field_date_time.0@www.umces.edu
DTSTAMP:20260419T174857Z
CREATED:20220830T174147Z
DESCRIPTION:September 28\, 2022 3:30pm    \n    \n      \n\n\n    \n\n     
          \nChesapeake Biological Laboratory\n      \n\n\n\n\n  \n\n    \n
 \n              \n\n\n              Title: Digging into the hydrology and 
 biogeochemistry of green stormwater infrastructure\n          \n  \n\n    
 \n\n              \n\n\nCBL's Distinguished Scholars Seminar is open to th
 e public. However\, interested participants should be aware that these hig
 hly technical seminars are intended for an academic audience. Members of t
 he public who would like to learn about featured research efforts are enco
 uraged to participate in CBL's public Science for Communities Seminar Seri
 es.
DTSTART;TZID=America/New_York:20220928T153000
DTEND;TZID=America/New_York:20220928T153000
LAST-MODIFIED:20220908T180205Z
SUMMARY:Distinguished Scholar Seminar Series: Dr. Lauren McPhillips (Penn S
 tate Civil Engineering)
URL;TYPE=URI:https://www.umces.edu/events/distinguished-scholar-seminar-ser
 ies-dr-lauren-mcphillips-penn-state-civil-engineering
END:VEVENT
END:VCALENDAR
