BEGIN:VCALENDAR
VERSION:2.0
PRODID:-//Date iCal//NONSGML kigkonsult.se iCalcreator 2.20.2//
METHOD:PUBLISH
X-WR-CALNAME;VALUE=TEXT:UMCES Events
BEGIN:VTIMEZONE
TZID:America/New_York
BEGIN:STANDARD
DTSTART:20221106T020000
TZOFFSETFROM:-0400
TZOFFSETTO:-0500
TZNAME:EST
END:STANDARD
BEGIN:DAYLIGHT
DTSTART:20230312T020000
TZOFFSETFROM:-0500
TZOFFSETTO:-0400
TZNAME:EDT
END:DAYLIGHT
END:VTIMEZONE
BEGIN:VEVENT
UID:calendar.23242.field_date_time.0@www.umces.edu
DTSTAMP:20260421T233704Z
CREATED:20221007T132519Z
DESCRIPTION:November 1\, 2022 7:00pm to 8:00pm    \n    \n      \n\n\n    
 \n\n              \nChesapeake Biological Laboratory\n      \n\n\n\n\n  \n
 \n    \n\n              \n\n\n              Fear for the Turtle? Climate C
 hange and Maryland’s Diamondback Terrapins\n              \n\n            
   \n\n    \n\n              \n  \n  \n      \n\n          \n  \n  \n\n    
 \n\n              \n\n\nTuesday\, November 1\, 2022 from 7:00pm – 8:00pm\n
 \nPresented by Dr. Chris Rowe\n\n\n\nCome hear about Maryland’s state rept
 ile and the challenges it faces as the climate continues to warm. Based on
  recent and ongoing studies\, Dr. Chris Rowe will discuss how nest tempera
 tures affect terrapins during development and how sea level rise is threat
 ening the critical habitats that terrapins depend on throughout their live
 s.\n\nOur registration process has changed.\n\n\n\nThis fall\, CBL will of
 fer seminars in a hybrid format: you can choose to attend in person\, or j
 oin via Zoom.\n\n\n\nFor the Fall 2022 series\, we look forward to welcomi
 ng community members back to our campus for in person presentations - Clic
 k “Register to Attend This Seminar in Person” to sign up.  In person atten
 dance is limited to 60 individuals and will require pre-registration.  You
  must submit a separate registration form for each seminar you plan to att
 end in person. We apologize for the inconvenience – this action is necessa
 ry to cap attendance at the 60-seat limit. You must use the Guest Fields o
 n each registration form if you wish to reserve a second seat. A separate 
 confirmation email\, along with directions for in person attendance\, will
  be sent to you for each seminar you register to attend. Attendees must pr
 esent a printed or digital copy of their registration confirmation email w
 hen they arrive on campus to attend in person. \n\n\n\nWe are also pleased
  to continue offering Zoom webinar viewing for those who cannot attend in 
 person. The “Register to Attend Webinars via Zoom” hyperlink\, also includ
 ed towards the bottom of this page\, allows guests to sign up for any\, so
 me\, or all of the seminars offered in this series. Zoom participants only
  need to fill out and submit this form once. \n\n\nScience for the Communi
 ty\n\n\n\nThis lecture is presented as part of UMCES Chesapeake Biological
  Laboratory’s Science for the Community seminar series.  These public prog
 rams invite members of the public to discover how our scientists are devel
 oping new approaches to solving the environmental challenges facing Maryla
 nd\, our nation\, and the world.  View the complete Science for the Commun
 ity seminar schedule. All seminars are free of charge.
DTSTART;TZID=America/New_York:20221101T190000
DTEND;TZID=America/New_York:20221101T200000
LAST-MODIFIED:20221007T132648Z
SUMMARY:S4C Seminar - Fear for the Turtle? Climate Change and Maryland’s Di
 amondback Terrapins
URL;TYPE=URI:https://www.umces.edu/events/s4c-seminar-fear-for-the-turtle-c
 limate-change-and-marylands-diamondback-terrapins
END:VEVENT
END:VCALENDAR
