BEGIN:VCALENDAR
VERSION:2.0
PRODID:-//Date iCal//NONSGML kigkonsult.se iCalcreator 2.20.2//
METHOD:PUBLISH
X-WR-CALNAME;VALUE=TEXT:UMCES Events
BEGIN:VTIMEZONE
TZID:America/New_York
BEGIN:STANDARD
DTSTART:20221106T020000
TZOFFSETFROM:-0400
TZOFFSETTO:-0500
TZNAME:EST
END:STANDARD
BEGIN:DAYLIGHT
DTSTART:20230312T020000
TZOFFSETFROM:-0500
TZOFFSETTO:-0400
TZNAME:EDT
END:DAYLIGHT
END:VTIMEZONE
BEGIN:VEVENT
UID:calendar.23243.field_date_time.0@www.umces.edu
DTSTAMP:20260423T085747Z
CREATED:20221007T133113Z
DESCRIPTION:November 8\, 2022 7:00pm to 8:00pm    \n    \n      \n\n\n    
 \n\n              \nChesapeake Biological Laboratory\n      \n\n\n\n\n  \n
 \n    \n\n              \n\n\n              Long Time\, No Sea: Bottlenose
  Dolphins in the Chesapeake Bay\n              \n\n              \n\n    
 \n\n              \n  \n  \n      \n\n          \n  \n  \n\n    \n\n      
         \n\n\nTuesday\, November 8\, 2022 from 7:00pm – 8:00pm\n\nPresente
 d by Jamie Testa\n\n\n\nChesapeake DolphinWatch launched its app in 2017 t
 o engage Bay residents and visitors in a research program studying when do
 lphins visit Chesapeake Bay and where they go. Since then\, the DolphinWat
 ch team has gathered incredible information on dolphin presence\, distribu
 tion\, and behavior in our estuary. In this seminar\, Project Coordinator 
 Jamie Testa will discuss the research findings from the first 5 years of D
 olphinWatch\, how graduate students at UMCES Chesapeake Biological Laborat
 ory are advancing dolphin research in Chesapeake Bay\, and future plans fo
 r the research.\n\nOur registration process has changed.\n\n\n\nThis fall\
 , CBL will offer seminars in a hybrid format: you can choose to attend in 
 person\, or join via Zoom.\n\n\n\nFor the Fall 2022 series\, we look forwa
 rd to welcoming community members back to our campus for in person present
 ations - Click “Register to Attend This Seminar in Person” to sign up.  In
  person attendance is limited to 60 individuals and will require pre-regis
 tration.  You must submit a separate registration form for each seminar yo
 u plan to attend in person. We apologize for the inconvenience – this acti
 on is necessary to cap attendance at the 60-seat limit. You must use the G
 uest Fields on each registration form if you wish to reserve a second seat
 . A separate confirmation email\, along with directions for in person atte
 ndance\, will be sent to you for each seminar you register to attend. Atte
 ndees must present a printed or digital copy of their registration confirm
 ation email when they arrive on campus to attend in person. \n\n\n\nWe are
  also pleased to continue offering Zoom webinar viewing for those who cann
 ot attend in person. The “Register to Attend Webinars via Zoom” hyperlink\
 , also included towards the bottom of this page\, allows guests to sign up
  for any\, some\, or all of the seminars offered in this series. Zoom part
 icipants only need to fill out and submit this form once. \n\n\nScience fo
 r the Community\n\n\n\nThis lecture is presented as part of UMCES Chesapea
 ke Biological Laboratory’s Science for the Community seminar series.  Thes
 e public programs invite members of the public to discover how our scienti
 sts are developing new approaches to solving the environmental challenges 
 facing Maryland\, our nation\, and the world.  View the complete Science f
 or the Community seminar schedule. All seminars are free of charge.
DTSTART;TZID=America/New_York:20221108T190000
DTEND;TZID=America/New_York:20221108T200000
LAST-MODIFIED:20221007T145605Z
SUMMARY:S4C Seminar - Long Time\, No Sea: Bottlenose Dolphins in the Chesap
 eake Bay
URL;TYPE=URI:https://www.umces.edu/events/s4c-seminar-long-time-no-sea-bott
 lenose-dolphins-in-the-chesapeake-bay
END:VEVENT
END:VCALENDAR
