BEGIN:VCALENDAR
VERSION:2.0
PRODID:-//Date iCal//NONSGML kigkonsult.se iCalcreator 2.20.2//
METHOD:PUBLISH
X-WR-CALNAME;VALUE=TEXT:UMCES Events
BEGIN:VTIMEZONE
TZID:America/New_York
BEGIN:STANDARD
DTSTART:20231105T020000
TZOFFSETFROM:-0400
TZOFFSETTO:-0500
TZNAME:EST
END:STANDARD
BEGIN:DAYLIGHT
DTSTART:20230312T020000
TZOFFSETFROM:-0500
TZOFFSETTO:-0400
TZNAME:EDT
END:DAYLIGHT
END:VTIMEZONE
BEGIN:VEVENT
UID:calendar.23406.field_date_time.0@www.umces.edu
DTSTAMP:20260424T004157Z
CREATED:20230511T004908Z
DESCRIPTION:August 7\, 2023 9:00am to August 11\, 2023 2:00pm    \n    \n  
     \n\n\n    \n\n              \nHorn Point Laboratory\n      \n\n\n\n\n 
  \n\n    \n\n              \n\n\n          \n\n              \n\n    \n\n 
              \n  \n  \n      \n\n          \n  \n  \n\n    \n\n           
    \n\n\nToadfish Adventures for 10 -13 year olds.  Activities include: Ca
 noeing\, fishing/seining\, marsh mucking\, extreme wading\, arts and craft
 s\, oyster hatchery tours\, oyster tonging activity\, nautical knot tying\
 , scavenger hunt\, tie-dying\, geocache/map & compass\, Native American st
 udies\, oyster dissection\, hiking\, and shell bagging/oyster cage buildin
 g. (On Wednesday night participants will enjoy a cookout\, campfire and s'
 mores!)\n\n\n\nFind out more and how to register here.
DTSTART;TZID=America/New_York:20230807T090000
DTEND;TZID=America/New_York:20230811T140000
LAST-MODIFIED:20230513T133916Z
SUMMARY:Toadfish Adventures at the Horn Point Laboratory
URL;TYPE=URI:https://www.umces.edu/events/toadfish-adventures-at-the-horn-p
 oint-laboratory
END:VEVENT
END:VCALENDAR
