BEGIN:VCALENDAR
VERSION:2.0
PRODID:-//Date iCal//NONSGML kigkonsult.se iCalcreator 2.20.2//
METHOD:PUBLISH
X-WR-CALNAME;VALUE=TEXT:UMCES Events
BEGIN:VTIMEZONE
TZID:America/New_York
BEGIN:STANDARD
DTSTART:20231105T020000
TZOFFSETFROM:-0400
TZOFFSETTO:-0500
RDATE:20241103T020000
TZNAME:EST
END:STANDARD
BEGIN:DAYLIGHT
DTSTART:20240310T020000
TZOFFSETFROM:-0500
TZOFFSETTO:-0400
TZNAME:EDT
END:DAYLIGHT
END:VTIMEZONE
BEGIN:VEVENT
UID:calendar.23695.field_date_time.0@www.umces.edu
DTSTAMP:20260422T211105Z
CREATED:20240503T141349Z
DESCRIPTION:May 31\, 2024 1:00pm    \n    \n      \n\n\n    \n\n           
    \nInstitute of Marine & Environmental Technology\n      \n\n\n\n\n  \n
 \n    \n\n              \n\n\n          \n\n              \n\n    \n\n    
           \n  \n  \n      \n\n          \n  \n  \n\n    \n\n              
 \n\n\nThe University of Maryland Center for Environmental Science will hol
 d its 2024 Commencement Ceremony on Friday\, May 31\, 1 p.m. at the Instit
 ute of Marine and Environmental Technology in Baltimore\, Maryland.\n\n\n
 \nFeaturing the conferral of master's and doctorate degrees\, distinguishe
 d speakers and university awards\, and keynote speaker Rick Spinrad\, Ph.D
 .\, Under Secretary of Commerce for Oceans and Atmosphere and NOAA Adminis
 trator. \n\n\n\nVisit Commencement 2024 for more.
DTSTART;TZID=America/New_York:20240531T130000
DTEND;TZID=America/New_York:20240531T130000
LAST-MODIFIED:20240503T163829Z
SUMMARY:UMCES Commencement 2024
URL;TYPE=URI:https://www.umces.edu/events/umces-commencement-2024
END:VEVENT
END:VCALENDAR
