BEGIN:VCALENDAR
VERSION:2.0
PRODID:-//Date iCal//NONSGML kigkonsult.se iCalcreator 2.20.2//
METHOD:PUBLISH
X-WR-CALNAME;VALUE=TEXT:UMCES Events
BEGIN:VTIMEZONE
TZID:America/New_York
BEGIN:STANDARD
DTSTART:20241103T020000
TZOFFSETFROM:-0400
TZOFFSETTO:-0500
TZNAME:EST
END:STANDARD
BEGIN:DAYLIGHT
DTSTART:20240310T020000
TZOFFSETFROM:-0500
TZOFFSETTO:-0400
RDATE:20250309T020000
TZNAME:EDT
END:DAYLIGHT
END:VTIMEZONE
BEGIN:VEVENT
UID:calendar.23772.field_date_time.0@www.umces.edu
DTSTAMP:20260419T233638Z
CREATED:20240905T155322Z
DESCRIPTION:September 24\, 2024 6:30pm to 8:30pm    \n    \n      \n\n\n   
  \n\n              \nAppalachian Laboratory\n      \n\n\n\n\n  \n\n    \n
 \n              \n\n\n          \n\n              \n\n    \n\n            
   \n  \n  \n      \n\n          \n  \n  \n\n    \n\n              \n\n\nTh
 e Appalachian Laboratory of the University of Maryland Center for Environm
 ental Science is taking the Watershed Moments series on the road! Join us 
 in person on Tuesday\, September 24\, at 6:30pm for “Water\, forests\, and
  wildlife in western Maryland: Environmental Science and the Appalachian L
 aboratory.”\n\n\n\nThe event will be held in the Performing Arts Center of
  Garrett College in McHenry\, MD.\n\n\n\nScientists from the Appalachian L
 aboratory are conducting leading edge environmental science for solutions 
 in western Maryland and beyond. Join us to learn more about current resear
 ch with implications for our local watersheds.\n\n\n\nThis event is free a
 nd open to the public.\n\n\n\nContact Rhonda Schwinabart\, Coordinator of 
 External Affairs\, with any event related questions.  \n\n\n\nDirections t
 o Garrett College and a campus map can be found at www.garrettcollege.edu/
 campus-map.php. Follow Bumble Bee Road to parking lot B.  
DTSTART;TZID=America/New_York:20240924T183000
DTEND;TZID=America/New_York:20240924T203000
LAST-MODIFIED:20240905T155552Z
SUMMARY:Watershed Moments: Water\, Forests\, Wildlife in Western MD
URL;TYPE=URI:https://www.umces.edu/events/watershed-moments-water-forests-w
 ildlife-in-western-md
END:VEVENT
END:VCALENDAR
