BEGIN:VCALENDAR
VERSION:2.0
PRODID:-//Date iCal//NONSGML kigkonsult.se iCalcreator 2.20.2//
METHOD:PUBLISH
X-WR-CALNAME;VALUE=TEXT:UMCES Events
BEGIN:VTIMEZONE
TZID:America/New_York
BEGIN:STANDARD
DTSTART:20241103T020000
TZOFFSETFROM:-0400
TZOFFSETTO:-0500
TZNAME:EST
END:STANDARD
BEGIN:DAYLIGHT
DTSTART:20240310T020000
TZOFFSETFROM:-0500
TZOFFSETTO:-0400
RDATE:20250309T020000
TZNAME:EDT
END:DAYLIGHT
END:VTIMEZONE
BEGIN:VEVENT
UID:calendar.23781.field_date_time.0@www.umces.edu
DTSTAMP:20260421T181920Z
CREATED:20240912T142648Z
DESCRIPTION:September 18\, 2024 12:00pm    \n    \n      \n\n\n\n  \n\n    
 \n\n              \n\n\n              Speaker Series: Climate Change\, Hea
 lth and Society\n              \n\n              \n\n    \n\n             
  \n  \n  \n      \n\n          \n  \n  \n\n    \n\n              \n\n\n\n
 \nFernando Miralles-Wilhelm\, Ph.D.\nPresident\, University of Maryland Ce
 nter for Environmental Science\n\nClimate Change and the Water-Energy-Food
  Nexus: Three stories from the International Development Context\n\n\n\nDr
 . Miralles-Wilhelm leads the University of Maryland Center for Environment
 al Science (UMCES)\, an institution that plays a key role in providing sou
 nd science to help state and national leaders manage the environment and p
 repare the next generation of environmental leaders. He is an expert in hy
 drology and water resources\, modeling of surface/groundwater systems and 
 the water-energy-food nexus\, and climate-hydrology-vegetation interaction
 . Dr. Miralles-Wilhelm also serves as the University System of Maryland’s 
 Vice Chancellor for Sustainability.\n\nTune in via Zoom:  https://umarylan
 d.zoom.us/j/99803996972\n\nOr in person: University of Maryland\, Baltimor
 e School of Nursing\, room 140\n\n\n\n \n\n\n\n 
DTSTART;TZID=America/New_York:20240918T120000
DTEND;TZID=America/New_York:20240918T120000
LAST-MODIFIED:20240912T142731Z
SUMMARY:Climate Change and the Water-Energy-Food Nexus: Three Stories from 
 an International Development Context
URL;TYPE=URI:https://www.umces.edu/events/climate-change-and-the-water-ener
 gy-food-nexus-three-stories-from-an-international
END:VEVENT
END:VCALENDAR
