BEGIN:VCALENDAR
VERSION:2.0
PRODID:-//Date iCal//NONSGML kigkonsult.se iCalcreator 2.20.2//
METHOD:PUBLISH
X-WR-CALNAME;VALUE=TEXT:UMCES Events
BEGIN:VTIMEZONE
TZID:America/New_York
BEGIN:STANDARD
DTSTART:20241103T020000
TZOFFSETFROM:-0400
TZOFFSETTO:-0500
TZNAME:EST
END:STANDARD
BEGIN:DAYLIGHT
DTSTART:20250309T020000
TZOFFSETFROM:-0500
TZOFFSETTO:-0400
TZNAME:EDT
END:DAYLIGHT
END:VTIMEZONE
BEGIN:VEVENT
UID:calendar.23807.field_date_time.0@www.umces.edu
DTSTAMP:20260423T175504Z
CREATED:20241018T160517Z
DESCRIPTION:November 12\, 2024 8:00am to 3:00pm    \n    \n      \n\n\n    
 \n\n              \nInstitute of Marine & Environmental Technology\n      
 \n\n\n\n\n  \n\n    \n\n              \n\n\n              About the Event
 \n              \n\n              \n\n    \n\n              \n  \n  \n    
   \n\n          \n  \n  \n\n    \n\n              \n\n\nJoin us for a day 
 filled with insightful panel discussions\, breakout sessions and networkin
 g opportunities focused on tackling climate change issues in Baltimore.\n
 \nThe summit is designed to foster collaboration among agencies and organi
 zations\, build strong partnership capacity in the city and surrounding co
 unties\, and form strategic alliances dedicated to enhancing Baltimore's e
 nvironmental infrastructure and programming capacity. It will serve as a p
 latform for bringing awareness to the most pressing environmental issues i
 n the region\, illuminating the vast landscape of funding opportunities\, 
 initiating the development of a collective synchronized agenda to capitali
 ze on funding opportunities available to the region\, and creating a safe 
 space for groups to discuss the challenges facing climate action strategie
 s\, including infrastructure\, funding\, administrative barriers\, and mor
 e. Learn from industry experts and environmental advocates about the lates
 t policies\, finance strategies\, community initiatives and solutions to c
 ombat the climate crisis.\n\nThis summit will feature dynamic panel discus
 sions and remarks with a lineup of distinguished speakers including:\n\n\n
 	Dr. Eric J. Schott\, UMCES Associate Research Professor and Project Direct
 or at IMET\n	Dr. Russell T. Hill\, UMCES Professor and IMET Executive Direc
 tor \n	Jenn Aiosa\, Chief of Staff\, Maryland Energy Administration\n	Cindy 
 Osorto of the Maryland Department of the Environment\, Chair of the Just T
 ransition Working Group\n	​Lynn Heller\, Founder and CEO of the Climate Acc
 ess Fund\n	Benjamin Zaitchik\, Chair of Earth and Plenary Sciences at Johns
  Hopkins and PI of Baltimore Social-Environmental Collaborative\n	​Ruth Ann
  Norton\, President & CEO Green and Healthy Homes Initiative\n	MD Senator B
 en Brooks\, member of the Education\, Energy\, and the Environment Committ
 ee\n\n\n\n\nFor additional information\, or to register\, please follow th
 is link: https://www.tbeffect.co/event-details/greater-baltimore-climate-s
 ummit \n\n\n\nWe look forward to seeing you there!\n\n\n\n 
DTSTART;TZID=America/New_York:20241112T080000
DTEND;TZID=America/New_York:20241112T150000
LAST-MODIFIED:20241111T125723Z
SUMMARY:Greater Baltimore Climate Summit
URL;TYPE=URI:https://www.umces.edu/events/greater-baltimore-climate-summit
END:VEVENT
END:VCALENDAR
