BEGIN:VCALENDAR
VERSION:2.0
PRODID:-//Date iCal//NONSGML kigkonsult.se iCalcreator 2.20.2//
METHOD:PUBLISH
X-WR-CALNAME;VALUE=TEXT:UMCES Events
BEGIN:VTIMEZONE
TZID:America/New_York
BEGIN:STANDARD
DTSTART:20241103T020000
TZOFFSETFROM:-0400
TZOFFSETTO:-0500
TZNAME:EST
END:STANDARD
BEGIN:DAYLIGHT
DTSTART:20250309T020000
TZOFFSETFROM:-0500
TZOFFSETTO:-0400
TZNAME:EDT
END:DAYLIGHT
END:VTIMEZONE
BEGIN:VEVENT
UID:calendar.23859.field_date_time.0@www.umces.edu
DTSTAMP:20260423T131037Z
CREATED:20250116T131849Z
DESCRIPTION:January 24\, 2025 2:00pm to 3:30pm    \n    \n      \n\n\n    
 \n\n              \nChesapeake Biological Laboratory\n      \n\n\n\n\n  \n
 \n    \n\n              \n\n\n              ﻿COME JOIN US IN EXPLORING UMC
 ES’ FUTURE AND REMEMBERING ITS PAST!\n              \n\n              \n\n
     \n\n              \n  \n  \n      \n\n          \n  \n  \n\n    \n\n  
             \n\n\nEnjoy remarks from UMCES president and special guests\, 
 and the laboratory directors will highlight their lab's role in the UMCES 
 unique history and exciting future.\n\n\n\nChesapeake Biological Laborator
 y\nResearch Fleet Operations Building\n200 Farren Avenue\nSolomons\, Maryl
 and\n\n\n\n2:00pm - 2:30pm\nRemarks and Logo Reveal\n\n\n\n2:30pm - 3:30pm
 \nVIP tours spotlighting exciting research\n\n\n\nThe festivities will kic
 k off at each of our laboratories\, so pick the date or location most conv
 enient for you.\n\n      \n\n\n\n    \n\n              \n\n      \n\n\n\n 
    \n\n              \n\n      \n\n\n\n\n\n              \n\n\n    \n\n   
  RSVP by January 21\, 2025!
DTSTART;TZID=America/New_York:20250124T140000
DTEND;TZID=America/New_York:20250124T153000
LAST-MODIFIED:20250116T132635Z
SUMMARY:Centennial Kickoff CBL
URL;TYPE=URI:https://www.umces.edu/events/centennial-kickoff-cbl
END:VEVENT
END:VCALENDAR
