BEGIN:VCALENDAR
VERSION:2.0
PRODID:-//Date iCal//NONSGML kigkonsult.se iCalcreator 2.20.2//
METHOD:PUBLISH
X-WR-CALNAME;VALUE=TEXT:UMCES Events
BEGIN:VTIMEZONE
TZID:America/New_York
BEGIN:STANDARD
DTSTART:20241103T020000
TZOFFSETFROM:-0400
TZOFFSETTO:-0500
TZNAME:EST
END:STANDARD
BEGIN:DAYLIGHT
DTSTART:20250309T020000
TZOFFSETFROM:-0500
TZOFFSETTO:-0400
TZNAME:EDT
END:DAYLIGHT
END:VTIMEZONE
BEGIN:VEVENT
UID:calendar.23862.field_date_time.0@www.umces.edu
DTSTAMP:20260423T024311Z
CREATED:20250116T135337Z
DESCRIPTION:February 6\, 2025 2:00pm to 3:30pm    \n    \n      \n\n\n    
 \n\n              \nInstitute of Marine & Environmental Technology\n      
 \n\n\n\n\n  \n\n    \n\n              \n\n\n              COME JOIN US IN 
 EXPLORING UMCES’ FUTURE AND REMEMBERING ITS PAST!\n          \n  \n\n    
 \n\n              \n\n\nEnjoy remarks from UMCES president and special gue
 sts\, and the laboratory directors will highlight their lab's role in the 
 UMCES unique history and exciting future.\n\n\n\nInstitute of Marine and E
 nvironmental Technology\n701 East Pratt Street\nBaltimore\, Maryland\n\n\n
 \n2:00pm - 2:30pm\nRemarks and Logo Reveal\n\n\n\n2:30pm - 3:30pm\nVIP tou
 rs spotlighting exciting research\n\n\n\nThe festivities will kick off at 
 each of our laboratories\, so pick the date or location most convenient fo
 r you.\n\n      \n\n\n\n    \n\n              \n\n      \n\n\n\n    \n\n  
             \n\n      \n\n\n\n\n\n              \n\n\n    \n\n    RSVP by 
 January 21\, 2025!
DTSTART;TZID=America/New_York:20250206T140000
DTEND;TZID=America/New_York:20250206T153000
LAST-MODIFIED:20250116T135359Z
SUMMARY:Centennial Kickoff IMET
URL;TYPE=URI:https://www.umces.edu/events/centennial-kickoff-imet
END:VEVENT
END:VCALENDAR
