BEGIN:VCALENDAR
VERSION:2.0
PRODID:-//Date iCal//NONSGML kigkonsult.se iCalcreator 2.20.2//
METHOD:PUBLISH
X-WR-CALNAME;VALUE=TEXT:UMCES Events
BEGIN:VTIMEZONE
TZID:America/New_York
BEGIN:STANDARD
DTSTART:20241103T020000
TZOFFSETFROM:-0400
TZOFFSETTO:-0500
TZNAME:EST
END:STANDARD
BEGIN:DAYLIGHT
DTSTART:20250309T020000
TZOFFSETFROM:-0500
TZOFFSETTO:-0400
TZNAME:EDT
END:DAYLIGHT
END:VTIMEZONE
BEGIN:VEVENT
UID:calendar.23866.field_date_time.0@www.umces.edu
DTSTAMP:20260424T022710Z
CREATED:20250124T160723Z
DESCRIPTION:February 18\, 2025 5:30pm to 6:30pm    \n    \n      \n\n\n    
 \n\n              \nHorn Point Laboratory\n      \n\n\n\n\n  \n\n    \n\n 
              \n\n\n          \n\n              \n\n    \n\n              
 \n  \n  \n      \n\n          \n  \n  \n\n    \n\n              \n\n\nJoin
  HPL scientists for a series of free\, interactive talks about the latest 
 environmental science research and what it means for the Shore and beyond.
  Light refreshments served.\n\n\n\nBillions of Baby Oysters—A Virtual Hatc
 hery Tour presented by Stephanie Alexander\, Oyster Hatchery Manager\nTues
 day\, Feb. 18\, 5:30-6:30pm\nHarriet Tubman Museum & Education Center\, 42
 4 Race Street\, Cambridge\n\n\n\nHorn Point Laboratory’s oyster hatchery h
 as produced billions of baby oysters\, both to restore populations in the 
 Bay and for the oyster farming industry. What does it take to raise health
 y baby oysters? Hatchery Director Stephanie Alexander\, who brings 20+ yea
 rs of experience in the field\, will lead attendees on a virtual tour of t
 he famous hatchery.\n\n\n\nStop in for one or join them all!\n\n\n\nFeb. 1
 8 Billions of Baby Oysters—A Virtual Hatchery Tour\n\n\n\nFeb. 27 Virtuous
  Viruses\n\n\n\nMarch 4 Shells and rocks: paving the way to increase oyste
 r habitat in Maryland’s Chesapeake Bay\n\n\n\nMarch 11 When waters bloom: 
 Harmful Algal Blooms\n\n      \n\n\n\n    \n\n              \n\n      \n\n
 \n\n    \n\n              \n\n      \n\n\n\n\n\n              \n\n\n    \n
 \n    Register for this event!
DTSTART;TZID=America/New_York:20250218T173000
DTEND;TZID=America/New_York:20250218T183000
LAST-MODIFIED:20250205T155458Z
SUMMARY:Community Science Talks: Billions of Baby Oysters—A Virtual Hatcher
 y Tour
URL;TYPE=URI:https://www.umces.edu/events/community-science-talks-billions-
 of-baby-oysters%E2%80%94a-virtual-hatchery-tour
END:VEVENT
END:VCALENDAR
