BEGIN:VCALENDAR
VERSION:2.0
PRODID:-//Date iCal//NONSGML kigkonsult.se iCalcreator 2.20.2//
METHOD:PUBLISH
X-WR-CALNAME;VALUE=TEXT:UMCES Events
BEGIN:VTIMEZONE
TZID:America/New_York
BEGIN:STANDARD
DTSTART:20241103T020000
TZOFFSETFROM:-0400
TZOFFSETTO:-0500
TZNAME:EST
END:STANDARD
BEGIN:DAYLIGHT
DTSTART:20250309T020000
TZOFFSETFROM:-0500
TZOFFSETTO:-0400
TZNAME:EDT
END:DAYLIGHT
END:VTIMEZONE
BEGIN:VEVENT
UID:calendar.23867.field_date_time.0@www.umces.edu
DTSTAMP:20260423T141957Z
CREATED:20250124T171435Z
DESCRIPTION:February 27\, 2025 5:30pm to 6:30pm    \n    \n      \n\n\n    
 \n\n              \nHorn Point Laboratory\n      \n\n\n\n\n  \n\n    \n\n 
              \n\n\n          \n\n              \n\n    \n\n              
 \n  \n  \n      \n\n          \n  \n  \n\n    \n\n              \n\n\nJoin
  HPL scientists for a series of free\, interactive talks about the latest 
 environmental science research and what it means for the Shore and beyond.
  Light refreshments served.\n\n\n\nVirtuous Viruses presented by Professor
  Joaquín Martínez Martínez\nThursday\, Feb. 27\, 5:30-6:30pm\nDorchester C
 enter for the Arts\, 321 High Street\, Cambridge\n\n\n\nViruses are the mo
 st abundant biological entities on Earth\, capable of infecting all forms 
 of life! While they are often associated with diseases we want to avoid\, 
 they also play a critical and often overlooked role in maintaining the bal
 ance of our planet’s ecosystems. In the oceans\, viruses help regulate bio
 logical and chemical processes and even serve as food for other microbes.
 \n\n\n\nJoin ocean virus ecologist Joaquín Martínez Martínez\, a new facul
 ty member at Horn Point\, for a discussion on the fascinating vital role v
 iruses play in marine life and ocean health. Discover how understanding vi
 ral infection is important to find solutions to pressing environmental cha
 llenges.\n\n\n\nStop in for one or join them all!\n\n\n\nFeb. 18 Billions 
 of Baby Oysters—A Virtual Hatchery Tour\n\n\n\nFeb. 27 Virtuous Viruses\n
 \n\n\nMarch 4 Shells and rocks: paving the way to increase oyster habitat 
 in Maryland’s Chesapeake Bay\n\n\n\nMarch 11 When waters bloom: Harmful Al
 gal Blooms\n\n      \n\n\n\n    \n\n              \n\n      \n\n\n\n    \n
 \n              \n\n      \n\n\n\n\n\n              \n\n\n    \n\n    Regi
 ster for this event!
DTSTART;TZID=America/New_York:20250227T173000
DTEND;TZID=America/New_York:20250227T183000
LAST-MODIFIED:20250205T155517Z
SUMMARY:Community Science Talks: Virtuous Viruses
URL;TYPE=URI:https://www.umces.edu/events/community-science-talks-virtuous-
 viruses
END:VEVENT
END:VCALENDAR
