BEGIN:VCALENDAR
VERSION:2.0
PRODID:-//Date iCal//NONSGML kigkonsult.se iCalcreator 2.20.2//
METHOD:PUBLISH
X-WR-CALNAME;VALUE=TEXT:UMCES Events
BEGIN:VTIMEZONE
TZID:America/New_York
BEGIN:STANDARD
DTSTART:20241103T020000
TZOFFSETFROM:-0400
TZOFFSETTO:-0500
TZNAME:EST
END:STANDARD
BEGIN:DAYLIGHT
DTSTART:20250309T020000
TZOFFSETFROM:-0500
TZOFFSETTO:-0400
TZNAME:EDT
END:DAYLIGHT
END:VTIMEZONE
BEGIN:VEVENT
UID:calendar.23869.field_date_time.0@www.umces.edu
DTSTAMP:20260424T022721Z
CREATED:20250124T172634Z
DESCRIPTION:March 11\, 2025 5:30pm to 6:30pm    \n    \n      \n\n\n    \n
 \n              \nHorn Point Laboratory\n      \n\n\n\n\n  \n\n    \n\n   
            \n\n\n      \n  \n\n    \n\n              \n\n\nJoin HPL scient
 ists for a series of free\, interactive talks about the latest environment
 al science research and what it means for the Shore and beyond. Light refr
 eshments served.\n\n\n\nWhen waters bloom: Harmful Algal Blooms presented 
 by Professor Pat Glibert\nTuesday\, March 11\, 5:30-6:30pm\nTalbot Communi
 ty Center\, Wye Oak Room\, Easton\n\n\n\nEvery drop of water is teaming wi
 th life\, including microscopic algae. Most are beneficial and provide the
  food on which all aquatic life depends. However\, some are harmful\, even
  toxic\, not only for fish but people. These harmful events are increasing
  around the world.  Being able to predict how algae will respond to change
 s in the environment is key to developing strategies to protect ecosystems
  and the food web.  Phytoplankton ecologist\, Professor Pat Glibert--autho
 r of a new comprehensive book on the subject--will lead attendees through 
 the latest research on harmful algal blooms. \n\n\n\nStop in for one or jo
 in them all!\n\n\n\nFeb. 18 Billions of Baby Oysters—A Virtual Hatchery To
 ur\n\n\n\nFeb. 27 Virtuous Viruses\n\n\n\nMarch 4 Shells and rocks: paving
  the way to increase oyster habitat in Maryland’s Chesapeake Bay\n\n\n\nMa
 rch 11 When waters bloom: Harmful Algal Blooms\n\n      \n\n\n\n    \n\n  
             \n\n      \n\n\n\n    \n\n              \n\n      \n\n\n\n\n\n
               \n\n\n    \n\n    Register for this event!
DTSTART;TZID=America/New_York:20250311T173000
DTEND;TZID=America/New_York:20250311T183000
LAST-MODIFIED:20250205T155551Z
SUMMARY:Community Science Talks: When waters bloom: Harmful Algal Blooms
URL;TYPE=URI:https://www.umces.edu/events/community-science-talks-when-wate
 rs-bloom-harmful-algal-blooms
END:VEVENT
END:VCALENDAR
