BEGIN:VCALENDAR
VERSION:2.0
PRODID:-//Date iCal//NONSGML kigkonsult.se iCalcreator 2.20.2//
METHOD:PUBLISH
X-WR-CALNAME;VALUE=TEXT:UMCES Events
BEGIN:VTIMEZONE
TZID:America/New_York
BEGIN:STANDARD
DTSTART:20241103T020000
TZOFFSETFROM:-0400
TZOFFSETTO:-0500
TZNAME:EST
END:STANDARD
BEGIN:DAYLIGHT
DTSTART:20250309T020000
TZOFFSETFROM:-0500
TZOFFSETTO:-0400
TZNAME:EDT
END:DAYLIGHT
END:VTIMEZONE
BEGIN:VEVENT
UID:calendar.23880.field_date_time.0@www.umces.edu
DTSTAMP:20260422T151652Z
CREATED:20250203T154838Z
DESCRIPTION:February 21\, 2025 11:00am to 12:00pm    \n    \n      \n\n\n  
   \n\n              \nAppalachian Laboratory\n      \n\n\n\n\n  \n\n    \n
 \n              \n\n\n      \n  \n\n    \n\n              \n\n\nDr. Camill
 e Thomas-Bulle\, University of Montana\, will present a virtual seminar as
  part of the Visiting Scholar Seminar Series.  More details will be posted
  as they become available. \n\n\n\nPlease note that seminars in the Visiti
 ng Scholar Seminar Series are scientific talks intended for scientific aud
 iences.  For more information on our public events intended for general au
 diences please visit our Watershed Moments Community Learning Series websi
 te. 
DTSTART;TZID=America/New_York:20250221T110000
DTEND;TZID=America/New_York:20250221T120000
LAST-MODIFIED:20250203T162908Z
SUMMARY:Visiting Scholar Seminar Series: Dr. Camille Thomas-Bulle\, Univers
 ity of MT
URL;TYPE=URI:https://www.umces.edu/events/visiting-scholar-seminar-series-d
 r-camille-thomas-bulle-university-of-mt
END:VEVENT
END:VCALENDAR
