BEGIN:VCALENDAR
VERSION:2.0
PRODID:-//Date iCal//NONSGML kigkonsult.se iCalcreator 2.20.2//
METHOD:PUBLISH
X-WR-CALNAME;VALUE=TEXT:UMCES Events
BEGIN:VTIMEZONE
TZID:America/New_York
BEGIN:STANDARD
DTSTART:20241103T020000
TZOFFSETFROM:-0400
TZOFFSETTO:-0500
RDATE:20251102T020000
TZNAME:EST
END:STANDARD
BEGIN:DAYLIGHT
DTSTART:20250309T020000
TZOFFSETFROM:-0500
TZOFFSETTO:-0400
TZNAME:EDT
END:DAYLIGHT
END:VTIMEZONE
BEGIN:VEVENT
UID:calendar.23906.field_date_time.0@www.umces.edu
DTSTAMP:20260422T082437Z
CREATED:20250321T201132Z
DESCRIPTION:May 10\, 2025 10:00am to 3:00pm    \n    \n      \n\n\n    \n\n
               \nHorn Point Laboratory\n      \n\n\n\n\n  \n\n    \n\n     
          \n\n\n          \n\n              \n\n    \n\n              \n  
 \n  \n      \n\n          \n  \n  \n\n    \n\n              \n\n\nThe Horn
  Point Lab chapter of the Society for Women in Marine Science (SWMS) is ho
 sting Science Saturday on May 10th at Horn Point Lab’s Environmental Educa
 tion Center. The day will be led by University women from multiple discipl
 ines. ​\n\n\n\nDesigned to introduce students ages 10-13 to the wide varie
 ty of opportunities in the sciences\, the day will consist of both indoor 
 and outdoor activities and getting to know tools scientists use to make di
 scoveries and solve mysteries.\n\n\n\nThis event is completely free for at
 tendees and includes lunch. Please be advised there is an attendance cap s
 o register early.
DTSTART;TZID=America/New_York:20250510T100000
DTEND;TZID=America/New_York:20250510T150000
LAST-MODIFIED:20250321T201132Z
SUMMARY:Science Saturday
URL;TYPE=URI:https://www.umces.edu/events/science-saturday
END:VEVENT
END:VCALENDAR
