BEGIN:VCALENDAR
VERSION:2.0
PRODID:-//Date iCal//NONSGML kigkonsult.se iCalcreator 2.20.2//
METHOD:PUBLISH
X-WR-CALNAME;VALUE=TEXT:UMCES Events
BEGIN:VTIMEZONE
TZID:America/New_York
BEGIN:STANDARD
DTSTART:20251102T020000
TZOFFSETFROM:-0400
TZOFFSETTO:-0500
TZNAME:EST
END:STANDARD
BEGIN:DAYLIGHT
DTSTART:20260308T020000
TZOFFSETFROM:-0500
TZOFFSETTO:-0400
TZNAME:EDT
END:DAYLIGHT
END:VTIMEZONE
BEGIN:VEVENT
UID:calendar.24054.field_date_time.0@www.umces.edu
DTSTAMP:20260422T225642Z
CREATED:20251223T164548Z
DESCRIPTION:January 23\, 2026 11:00am to 12:00pm    \n    \n      \n\n\n   
  \n\n              \nAppalachian Laboratory\n      \n\n\n\n\n  \n\n    \n
 \n              \n\n\n          \n\n              \n\n    \n\n            
   \n  \n    \n\n    Ryan Woodland  \n\n      \n\n          \n  \n  \n\n   
  \n\n              \n\n\nDr. Ryan Woodland\, UMCES-Chesapeake Biological L
 aboratory\, will present a seminar as part of the UMCES Appalachian Labora
 tory's Visiting Scholar Seminar Series. To learn more about Dr. Woodland's
  work\, please visit his UMCES research site.\n\n\n\nSeminars are held on 
 Fridays at 11am in Room 109 of the UMCES Appalachian Laboratory unless oth
 erwise specified. All sessions are open to the public\, but please note th
 at these are scientific talks intended for scientific audiences.  For more
  information on our public events intended for general audiences please vi
 sit our Watershed Moments Community Learning Series website.\n\n\n\n 
DTSTART;TZID=America/New_York:20260123T110000
DTEND;TZID=America/New_York:20260123T120000
LAST-MODIFIED:20251223T164554Z
SUMMARY:Visiting Scholar Seminar Series: Ryan Woodland\, UMCES-CBL
URL;TYPE=URI:https://www.umces.edu/events/visiting-scholar-seminar-series-r
 yan-woodland-umces-cbl
END:VEVENT
END:VCALENDAR
