BEGIN:VCALENDAR
VERSION:2.0
PRODID:-//Date iCal//NONSGML kigkonsult.se iCalcreator 2.20.2//
METHOD:PUBLISH
X-WR-CALNAME;VALUE=TEXT:UMCES Events
BEGIN:VTIMEZONE
TZID:America/New_York
BEGIN:STANDARD
DTSTART:20251102T020000
TZOFFSETFROM:-0400
TZOFFSETTO:-0500
RDATE:20261101T020000
TZNAME:EST
END:STANDARD
BEGIN:DAYLIGHT
DTSTART:20260308T020000
TZOFFSETFROM:-0500
TZOFFSETTO:-0400
TZNAME:EDT
END:DAYLIGHT
END:VTIMEZONE
BEGIN:VEVENT
UID:calendar.24102.field_date_time.0@www.umces.edu
DTSTAMP:20260420T184111Z
CREATED:20260420T150746Z
DESCRIPTION:May 29\, 2026 1:30pm to 3:00pm    \n    \n      \n\n\n    \n\n 
              \nInstitute of Marine & Environmental Technology\n      \n\n
 \n\n\n  \n\n    \n\n              \n\n\n          \n\n      \n\n    \n\n  
             \nCommencement Information
DTSTART;TZID=America/New_York:20260529T133000
DTEND;TZID=America/New_York:20260529T150000
LAST-MODIFIED:20260420T151426Z
SUMMARY:Commencement 2026
URL;TYPE=URI:https://www.umces.edu/events/commencement-2026
END:VEVENT
END:VCALENDAR
