BEGIN:VCALENDAR
VERSION:2.0
PRODID:-//Date iCal//NONSGML kigkonsult.se iCalcreator 2.20.2//
METHOD:PUBLISH
X-WR-CALNAME;VALUE=TEXT:UMCES Events
BEGIN:VTIMEZONE
TZID:America/New_York
BEGIN:STANDARD
DTSTART:20251102T020000
TZOFFSETFROM:-0400
TZOFFSETTO:-0500
RDATE:20261101T020000
TZNAME:EST
END:STANDARD
BEGIN:DAYLIGHT
DTSTART:20260308T020000
TZOFFSETFROM:-0500
TZOFFSETTO:-0400
TZNAME:EDT
END:DAYLIGHT
END:VTIMEZONE
BEGIN:VEVENT
UID:calendar.24103.field_date_time.0@www.umces.edu
DTSTAMP:20260420T202419Z
CREATED:20260420T151221Z
DESCRIPTION:May 2\, 2026 11:00am    \n    \n      \n\n\n    \n\n           
    \nInstitute of Marine & Environmental Technology\n      \n\n\n\n\n  \n
 \n    \n\n              \n\n\n      \n  \n\n    \n\n              \n\n\nJo
 in us Saturday\, May 2 from 11 a.m.–3 p.m. for a family-friendly day of ha
 nds-on science\, interactive demonstrations\, and conversations with marin
 e scientists exploring research in Baltimore Harbor and the Chesapeake Bay
 .\n\n      \n\n\n\n    \n\n              \n\n      \n\n\n\n    \n\n       
        \n\n      \n\n\n\n\n\n              \n\n\n      \n  \n\n    \n\n   
            \n\n\nEnjoy live music with The Ocean Is Aware: A Suite for Cre
 ative Musicians by CIRCA-IMET Artist-in-Residence Matt Belzer at 11:30 a.m
 . and 1:30 p.m. in the auditorium.\n\nPlus: microscopes\, research tools\,
  food trucks (FishNet & Quinn’s Ice)\, a photo area\, and our first-ever I
 MET raffle.\n\n      \n\n\n\n    \n\n              \n\n      \n\n\n\n    
 \n\n              \n\n      \n\n\n\n\n\n              \n\n\n      \n  \n\n
     \n\n              \n\n\nBring your friends and help spread the word! 
 \n\nRegister here: https://lnkd.in/eZ-J-sNE
DTSTART;TZID=America/New_York:20260502T110000
DTEND;TZID=America/New_York:20260502T110000
LAST-MODIFIED:20260420T151612Z
SUMMARY:2026 IMET Open House
URL;TYPE=URI:https://www.umces.edu/events/2026-imet-open-house
END:VEVENT
END:VCALENDAR
