BEGIN:VCALENDAR
VERSION:2.0
PRODID:-//Date iCal//NONSGML kigkonsult.se iCalcreator 2.20.2//
METHOD:PUBLISH
X-WR-CALNAME;VALUE=TEXT:UMCES Events
BEGIN:VTIMEZONE
TZID:America/New_York
BEGIN:STANDARD
DTSTART:20171105T020000
TZOFFSETFROM:-0400
TZOFFSETTO:-0500
RDATE:20181104T020000
TZNAME:EST
END:STANDARD
BEGIN:DAYLIGHT
DTSTART:20180311T020000
TZOFFSETFROM:-0500
TZOFFSETTO:-0400
TZNAME:EDT
END:DAYLIGHT
END:VTIMEZONE
BEGIN:VEVENT
UID:calendar.2566.field_date_time.0@www.umces.edu
DTSTAMP:20260425T174836Z
CREATED:20180117T153935Z
DESCRIPTION:April 24\, 2018 2:00pm to 3:00pm    \n    \n      \n\n\n    \n
 \n              \nChesapeake Biological Laboratory\n      \n\n\n\n\n  \n\n
     \n\n              \n\n\n          \n\n              \n\n    \n\n      
         \n  \n    \n\n    Photo by Carolyn Wilson  \n\n      \n\n         
  \n  \n  \n\n    \n\n              \n\n\n\n\n\n\n\n\n\n\n\n\nSeminar prese
 nted twice on Tuesday\, April 24th. From 2:00pm - 3:00pm and from 7:00pm -
  8:00pm\n\n\n\nPresented by Dr. Helen Bailey\nLittle is known about how of
 ten dolphins come into the Chesapeake Bay\, how long they spend there\, wh
 at areas they are using and why. Dr. Bailey and her team have been frequen
 tly detecting dolphin calls in the Bay and last summer\, citizen scientist
 s reported more than 900 dolphin sightings on Dr. Bailey’s newly launched 
 DolphinWatch website. In this talk\, Dr. Bailey will present what she has 
 learnt about the Bay’s dolphins so far\, describe upgrades to the sighting
  app\, and explain how you can participate in this research effort.\n\n\n
 \nWhere: CBL’s Bernie Fowler Lab\, 142 Williams Street\, Solomons\, MD 206
 88. View a campus map.\nCost: Free. No pre-registration necessary. Seating
  is available on a first-come\, first-served basis.\nWho: Members of the g
 eneral public. No scientific background needed\; everyone is welcome!\nWhy
 : Learn something new and interesting while celebrating science on scenic 
 Solomons Island\n\n\n\nThis seminar is presented as a part of the Chesapea
 ke Biological Laboraotyr's Science for Citizens Seminar Series.  These pub
 lic seminars invite the community to discover how our scientists are devel
 oping new approaches to solving the environmental challenges facing Southe
 rn Maryland\, our nation\, and the world. View the complete Spring 2018 Sc
 ience for Citizens Seminar schedule.
DTSTART;TZID=America/New_York:20180424T140000
DTEND;TZID=America/New_York:20180424T150000
LAST-MODIFIED:20180419T174832Z
SUMMARY:DolphinWatch: Dolphins in the Chesapeake Bay
URL;TYPE=URI:https://www.umces.edu/events/dolphinwatch-dolphins-chesapeake-
 bay
END:VEVENT
END:VCALENDAR
