BEGIN:VCALENDAR
VERSION:2.0
PRODID:-//Date iCal//NONSGML kigkonsult.se iCalcreator 2.20.2//
METHOD:PUBLISH
X-WR-CALNAME;VALUE=TEXT:UMCES Events
BEGIN:VTIMEZONE
TZID:America/New_York
BEGIN:STANDARD
DTSTART:20171105T020000
TZOFFSETFROM:-0400
TZOFFSETTO:-0500
RDATE:20181104T020000
TZNAME:EST
END:STANDARD
BEGIN:DAYLIGHT
DTSTART:20180311T020000
TZOFFSETFROM:-0500
TZOFFSETTO:-0400
TZNAME:EDT
END:DAYLIGHT
END:VTIMEZONE
BEGIN:VEVENT
UID:calendar.2567.field_date_time.0@www.umces.edu
DTSTAMP:20260423T141931Z
CREATED:20180117T154422Z
DESCRIPTION:April 24\, 2018 7:00pm to 8:00pm    \n    \n      \n\n\n    \n
 \n              \nChesapeake Biological Laboratory\n      \n\n\n\n\n  \n\n
     \n\n              \n\n\n          \n\n              \n\n    \n\n      
         \n  \n    \n\n    Photo by Carolyn Wilson  \n\n      \n\n         
  \n  \n  \n\n    \n\n              \n\n\n\n\n\n\n\n\n\n\n\n\nSeminar prese
 nted twice on Tuesday\, April 24th. From 2:00pm - 3:00pm and from 7:00pm -
  8:00pm\n\n\n\nPresented by Dr. Helen Bailey\nLittle is known about how of
 ten dolphins come into the Chesapeake Bay\, how long they spend there\, wh
 at areas they are using and why. Dr. Bailey and her team have been frequen
 tly detecting dolphin calls in the Bay and last summer\, citizen scientist
 s reported more than 900 dolphin sightings on the newly launched DolphinWa
 tch website. In this talk\, Dr. Bailey will present what she has learnt ab
 out the Bay’s dolphins so far\, describe upgrades to the sighting app\, an
 d explain how you can participate in this research effort.\n\n\n\nWhere: C
 BL’s Bernie Fowler Lab\, 142 Williams Street\, Solomons\, MD 20688. View a
  campus map.\nCost: Free. No pre-registration necessary. Seating is availa
 ble on a first-come\, first-served basis.\nWho: Members of the general pub
 lic. No scientific background needed\; everyone is welcome!\nWhy: Learn so
 mething new and interesting while celebrating science on scenic Solomons I
 sland\n\n\n\nThis seminar is presented as a part of the Chesapeake Biologi
 cal Laboraotyr's Science for Citizens Seminar Series. These public seminar
 s invite the community to discover how our scientists are developing new a
 pproaches to solving the environmental challenges facing Southern Maryland
 \, our nation\, and the world. View the complete Spring 2018 Science for C
 itizens Seminar schedule.
DTSTART;TZID=America/New_York:20180424T190000
DTEND;TZID=America/New_York:20180424T200000
LAST-MODIFIED:20190227T210425Z
SUMMARY:DolphinWatch: Dolphins in the Chesapeake Bay
URL;TYPE=URI:https://www.umces.edu/events/dolphinwatch-dolphins-chesapeake-
 bay-0
END:VEVENT
END:VCALENDAR
