BEGIN:VCALENDAR
VERSION:2.0
PRODID:-//Date iCal//NONSGML kigkonsult.se iCalcreator 2.20.2//
METHOD:PUBLISH
X-WR-CALNAME;VALUE=TEXT:UMCES Events
BEGIN:VTIMEZONE
TZID:America/New_York
BEGIN:STANDARD
DTSTART:20171105T020000
TZOFFSETFROM:-0400
TZOFFSETTO:-0500
TZNAME:EST
END:STANDARD
BEGIN:DAYLIGHT
DTSTART:20180311T020000
TZOFFSETFROM:-0500
TZOFFSETTO:-0400
TZNAME:EDT
END:DAYLIGHT
END:VTIMEZONE
BEGIN:VEVENT
UID:calendar.2647.field_date_time.0@www.umces.edu
DTSTAMP:20260423T173918Z
CREATED:20180213T203316Z
DESCRIPTION:March 9\, 2018 6:00pm to 8:00pm    \n    \n      \n\n\n    \n\n
               \nHorn Point Laboratory\n      \n\n\n\n\n  \n\n    \n\n     
          \n\n\n          \n\n              \n\n    \n\n              \n  
 \n    \n\n    Sea level rise is happening now in Maryland's Dorchester Cou
 nty. Film still from 'High Tide in Dorchester.' Photo by Dave Harp.  \n\n 
      \n\n          \n  \n  \n\n    \n\n              \n\n\nThis event is n
 ow SOLD OUT.\n\n\n\nThe University of Maryland Center for Environmental Sc
 ience’s Horn Point Laboratory and Dorchester Citizens for Planned Growth w
 ill host a special community preview of the one-hour documentary “High Tid
 e in Dorchester” at 447 Venue\, 447 Race St\, Cambridge\, Maryland. Doors 
 open at 5:30 p.m.\; film starts at 6 p.m. \n\n\n\nCreated by the gifted lo
 cal team of writer Tom Horton\, filmmaker Sandy Cannon-Brown\, and photogr
 apher Dave Harp\, “High Tide in Dorchester” looks closely at the Blackwate
 r National Wildlife Refuge\, where scientists and managers are already dea
 ling with the impacts of the rising tide. It encourages discussions and ac
 tions concerning sea level rise\, erosion\, and climate change in Dorchest
 er County. The screening will be followed by a question and answer session
  with the filmmakers.\n\n\n\nFor more on the film and sea level rise on th
 e Eastern Shore\, click HERE.\n\n\n\nSpecial film preview 'High Tide in Do
 rchester' on WHCP radio.
DTSTART;TZID=America/New_York:20180309T180000
DTEND;TZID=America/New_York:20180309T200000
LAST-MODIFIED:20180305T185445Z
SUMMARY:Film Preview: 'High Tide in Dorchester'
URL;TYPE=URI:https://www.umces.edu/events/hightide
END:VEVENT
END:VCALENDAR
